BEGIN:VCALENDAR
VERSION:2.0
PRODID:-//ChamberMaster//Event Calendar 2.0//EN
METHOD:PUBLISH
X-PUBLISHED-TTL:P3D
REFRESH-INTERVAL:P3D
CALSCALE:GREGORIAN
BEGIN:VEVENT
DTSTART:20180830T230000Z
DTEND:20180831T003000Z
X-MICROSOFT-CDO-ALLDAYEVENT:FALSE
SUMMARY:Prosperity N.E.O. Cyber Savvy -Member Event
DESCRIPTION:We are pleased to annouce that Prosperity N.E.O. has teamed up with Balanced Financial Concepts to bring you a program that will show you how to fight the growing cybersecurity threat and be better guarded against identity theft.  Drinks and snacks will be provided as well as an action plan you can take home to immediately improve the security of your personal information.  \n\n\n\nPlease RSVP to Danielle by email at  danielle@prosperityneo.com  or phone at (440) 542-9399 before Monday\, August 27th!
X-ALT-DESC;FMTTYPE=text/html:<p><span style="font-size:16px"><span style="font-family:comic sans ms">We are pleased to annouce that Prosperity N.E.O. has teamed up with Balanced Financial Concepts to bring you a program that will show you how to fight the growing cybersecurity threat and be better guarded against identity theft.&nbsp\; Drinks and snacks will be provided as well as an action plan you can take home to immediately improve the security of your personal information.&nbsp\;&nbsp\;<br />\n<br />\nPlease RSVP to Danielle by email at&nbsp\;&nbsp\;<a href="mailto:danielle@prosperityneo.com">danielle@prosperityneo.com</a>&nbsp\; or phone at (440) 542-9399 before Monday\, August 27th!</span></span></p>\n
LOCATION:Mustard Seed Market and Cafe/Pine View Banquet Room (upstairs) 6025 Kruse Drive\, Solon\, OH 44139
UID:e.2230.2045
SEQUENCE:3
DTSTAMP:20260421T134415Z
URL:https://business.twinsburgchamber.com/events/details/prosperity-n-e-o-cyber-savvy-member-event-2045
END:VEVENT

END:VCALENDAR
