BEGIN:VCALENDAR
VERSION:2.0
PRODID:-//ChamberMaster//Event Calendar 2.0//EN
METHOD:PUBLISH
X-PUBLISHED-TTL:P3D
REFRESH-INTERVAL:P3D
CALSCALE:GREGORIAN
BEGIN:VEVENT
DTSTART:20190326T193000Z
DTEND:20190326T210000Z
X-MICROSOFT-CDO-ALLDAYEVENT:FALSE
SUMMARY:Personal Safety: Learn How to Protect Yourself - T.W.I.N. (Twinsburg Women In Networking) Meeting
DESCRIPTION:This event is designed to educate and teach women life saving tips and techniques to promote safety and self-defense. And while we hope women never need to use self-defense skills\, this session will help women feel educated and empowered if they are in a compromising situation.  There are no boundaries in being safe - being in the city or suburbia - it is important to be prepared!\n\n \n\nPLEASE WEAR COMFORTABLE CLOTHES as attendees will be participating in skills. \n\n\n\n Tips and Hands On Demonstration\n\nGuest Speaker: Assistant Prosecutor Jennie Shuki\, Violent Crime Unit\, Criminal \n\nDivision\, Summit County\n\n\n\nInstructor: Sensei Reggie Brown\, Owner\, Twinsburg Karate Institute\n\n \n\nHosted by T.W.I.N.\, a program of the Twinsburg Chamber of Commerce\, the mission of the group is to create an environment that helps nurture\, develop\, and educate the business women of Twinsburg.\n\nThe event is open to all Chamber members.
X-ALT-DESC;FMTTYPE=text/html:<span style="font-family:arial\;"><span style="font-size:14.0pt\;">This event is designed to educate and teach women life saving tips and techniques to promote safety and self-defense. And while we hope women never need to use self-defense skills\, this session will help women feel educated and empowered if they are in a compromising situation.&nbsp\; There are no boundaries in being safe - being in the city or suburbia - it is important to be prepared!</span></span><br />\n&nbsp\;<br />\n<span style="font-style:italic\;"><span style="color:#00b050\;"><span style="font-family:arial\;"><span style="font-size:14pt\;">PLEASE WEAR COMFORTABLE CLOTHES </span></span></span></span><span style="font-style:italic\;"><span style="font-family:arial\;"><span style="font-size:14pt\;">as attendees will be participating in skills.&nbsp\;</span></span></span><br />\n<br />\n&nbsp\;<span style="color: rgb(51\, 51\, 51)\; font-family: georgia\; font-size: 29.3333px\; font-weight: 700\; background-color: rgb(255\, 255\, 255)\;">Tips and Hands On Demonstration</span><br />\n<span style="font-weight:bold\;language:en-US\;"><span style="color:black\;"><span style="font-family:arial\;"><span style="font-size:20.0pt\;">Guest Speaker: Assistant Prosecutor Jennie Shuki\, </span></span></span></span><span style="font-weight:bold\;language:en-US\;"><span style="color:black\;"><span style="font-family:arial\;"><span style="font-size:16.0pt\;">Violent Crime Unit\, Criminal </span></span></span></span><br />\n<span style="font-weight:bold\;language:en-US\;"><span style="color:black\;"><span style="font-family:arial\;"><span style="font-size:16.0pt\;">Division\, Summit County</span><br />\n<br />\n<span style="font-size:20.0pt\;">Instructor: Sensei Reggie Brown\, </span></span></span></span><span style="font-weight:bold\;language:en-US\;"><span style="color:black\;"><span style="font-family:arial\;"><span style="font-size:16.0pt\;">Owner\, Twinsburg Karate Institute</span></span></span></span><br />\n&nbsp\;<br />\n<span style="language:en-US\;"><span style="font-family:arial\;"><span style="font-size:12.0pt\;">Hosted by T.W.I.N.\, a program of the Twinsburg Chamber of Commerce\, the mission of the group is to create an environment that helps nurture\, develop\, and educate the business women of Twinsburg.</span></span></span><br />\n<span style="font-style:italic\;text-decoration:underline\;text-underline:single\;language:en-US\;"><span style="font-family:arial\;"><span style="font-size:12.0pt\;">The event is open to all Chamber members</span></span></span><span style="language:en-US\;"><span style="font-family:arial\;"><span style="font-size:12.0pt\;">.&nbsp\;&nbsp\;&nbsp\; </span></span></span><br />\n&nbsp\;<br />\n<br />\n<br />\n<br />\n<br />\n<br />\n&nbsp\;
LOCATION:Twinsburg Karate Insitute 9224 Darrow Road Twinsburg\, OH 44087
UID:e.2230.2183
SEQUENCE:3
DTSTAMP:20260422T020446Z
URL:https://business.twinsburgchamber.com/events/details/personal-safety-learn-how-to-protect-yourself-t-w-i-n-twinsburg-women-in-networking-meeting-2183
END:VEVENT

END:VCALENDAR
