BEGIN:VCALENDAR
VERSION:2.0
PRODID:-//ChamberMaster//Event Calendar 2.0//EN
METHOD:PUBLISH
X-PUBLISHED-TTL:P3D
REFRESH-INTERVAL:P3D
CALSCALE:GREGORIAN
BEGIN:VEVENT
DTSTART:20181108T163000Z
DTEND:20181108T180000Z
X-MICROSOFT-CDO-ALLDAYEVENT:FALSE
SUMMARY:"One Word" for the New Year - T.W.I.N. (Twinsburg Women In Networking) November Monthly Meeting
DESCRIPTION:Come and learn about the women who make up T.W.I.N (Twinsburg Women In Networking)! Share your stories and ideas with our women in business members.  This will be a joint event with the Hudson Chamber Professional Women's Networking group.\n\n\n\nSusan Krupitzer is the guest speaker.\n\n\n\n2016 TWIN Monthly Meeting Dates
X-ALT-DESC;FMTTYPE=text/html:<br />\n<span style="font-weight: bold\;"><span style="color: rgb(77\, 38\, 154)\;"><font face="arial"><span style="font-size: 14px\;">Come and learn about the women who make up T.W.I.N (Twinsburg Women In Networking)! Share your stories and ideas with our women in business members.&nbsp\; This will be a joint event with the Hudson Chamber Professional Women&#39\;s Networking group.</span></font><br />\n<br />\n<font face="arial"><span style="font-size: 14px\;">Susan Krupitzer </span></font><font face="Calibri\, Verdana\, Geneva\, sans-serif"><span style="font-size: 16px\;">is the guest speaker.</span></font></span></span><br />\n<br />\n<span style="font-size:14px\;"><span style="font-family:arial\;"><span style="color:#800080\;"><strong><a href="https://chambermaster.blob.core.windows.net/userfiles/UserFiles/chambers/2230/File/2016TWINMonthlyMeetingDates..pdf" target="_blank"><u>2016 TWIN Monthly Meeting Dates</u></a></strong></span></span></span><br />\n<br />\n<br />\n<br />\n&nbsp\;
LOCATION:Blue Canyon Kitchen & Tavern 8960 Wilcox Drive Twinsburg\, OH 44087
UID:e.2230.2056
SEQUENCE:3
DTSTAMP:20260421T185353Z
URL:https://business.twinsburgchamber.com/events/details/one-word-for-the-new-year-t-w-i-n-twinsburg-women-in-networking-november-monthly-meeting-2056
END:VEVENT

END:VCALENDAR
