BEGIN:VCALENDAR
VERSION:2.0
PRODID:-//ChamberMaster//Event Calendar 2.0//EN
METHOD:PUBLISH
X-PUBLISHED-TTL:P3D
REFRESH-INTERVAL:P3D
CALSCALE:GREGORIAN
BEGIN:VEVENT
DTSTART:20180711T153000Z
DTEND:20180711T170000Z
X-MICROSOFT-CDO-ALLDAYEVENT:FALSE
SUMMARY:Ohio's New Medical Marijuana Law vs Drug Free Workplace Presented by the Western Reserve Safety Council
DESCRIPTION:REGISTER HERE\n\n\n\nSpeaker: Dyann McDowell\, Training Marbles\, Inc.\nThe new Ohio medical marijuana law allows people with certain medical conditions to purchase and use medical marijuana. The goal of the Drug-Free Workplace is to make the workplace as safe and drug free as possible. Understand the new law and the steps employers need to take to protect the workplace. \n\n\n\nThe Western Reserved is sponsored by the Solon Chamber of Commerce and Ohio Bureau of Workers' Compensation in partnership with the Twinsburg Chamber of Commerce\, Aurora Chamber of Commerce\, Beachwood Chamber of Commerce\, Chagrin Valley Chamber of Commerce\, Hudson Chamber of Commerce and Nordonia Hills Chamber of Commerce.
X-ALT-DESC;FMTTYPE=text/html:<h2><strong><span style="font-family:arial\,sans-serif\;"><span style="font-size:12.0pt\;"><a href="http://business.westernreservesc.org/events/details/wrsc-program-ohio-s-new-medical-marijuana-law-vs-drug-free-workplace-can-they-coexist-364"><span style="font-size:20px\;"><span style="color:#0000FF\;">REGISTER HERE</span></span></a><br />\n<br />\nSpeaker:&nbsp\;Dyann&nbsp\;McDowell\, Training Marbles\, Inc.</span></span></strong></h2>\n<span style="font-family:arial\,sans-serif\;"><span style="font-size:10.5pt\;">The new Ohio medical marijuana law allows&nbsp\;<span open="">people with certain medical conditions to purchase and use medical marijuana.</span>&nbsp\;</span></span><span style="font-family:arial\,sans-serif\;"><span style="font-size:10.5pt\;">The goal of the Drug-Free Workplace is to make the workplace as safe and drug free as possible.&nbsp\;Understand the new law and the steps employers need to take to protect the workplace.&nbsp\;<br />\n<br />\n<em>The Western Reserved is sponsored by the Solon Chamber of Commerce and Ohio Bureau of Workers&#39\; Compensation in partnership with the Twinsburg Chamber of Commerce\, Aurora Chamber of Commerce\, Beachwood Chamber of Commerce\, Chagrin Valley Chamber of Commerce\, Hudson Chamber of Commerce and Nordonia&nbsp\;Hills Chamber of Commerce.</em></span></span>
LOCATION:Mustard Seed Market & Cafe 6025 Kruse Drive Solon\, OH 44139
UID:e.2230.2037
SEQUENCE:3
DTSTAMP:20260421T134757Z
URL:https://business.twinsburgchamber.com/events/details/ohio-s-new-medical-marijuana-law-vs-drug-free-workplace-presented-by-the-western-reserve-safety-council-2037
END:VEVENT

END:VCALENDAR
