BEGIN:VCALENDAR
VERSION:2.0
PRODID:-//ChamberMaster//Event Calendar 2.0//EN
METHOD:PUBLISH
X-PUBLISHED-TTL:P3D
REFRESH-INTERVAL:P3D
CALSCALE:GREGORIAN
BEGIN:VEVENT
DTSTART:20231010T154500Z
DTEND:20231010T170000Z
X-MICROSOFT-CDO-ALLDAYEVENT:FALSE
SUMMARY:October Chamber Networking Lunch
DESCRIPTION:Join us for a Networking Lunch n Learn\, featuring President of NOACC\, Cindy Holzheimer and Rick Davidson from Community Energy Advisors\, who will review Chamber member benefits and answer questions regarding these programs.
X-ALT-DESC;FMTTYPE=text/html:<span style="font-size:16px\;">Join us for a Networking Lunch n Learn\, featuring President of NOACC\, Cindy Holzheimer and Rick Davidson from Community Energy Advisors\, who will review Chamber member benefits and answer questions regarding these programs.</span>
LOCATION:Mavis Winkle's Irish Pub 8870 Darrow Road Twinsburg\, OH 44087
UID:e.2230.3245
SEQUENCE:3
DTSTAMP:20260421T185035Z
URL:https://business.twinsburgchamber.com/events/details/october-chamber-networking-lunch-3245
END:VEVENT

END:VCALENDAR
