BEGIN:VCALENDAR
VERSION:2.0
PRODID:-//ChamberMaster//Event Calendar 2.0//EN
METHOD:PUBLISH
X-PUBLISHED-TTL:P3D
REFRESH-INTERVAL:P3D
CALSCALE:GREGORIAN
BEGIN:VEVENT
DTSTART:20171025T153000Z
DTEND:20171025T170000Z
X-MICROSOFT-CDO-ALLDAYEVENT:FALSE
SUMMARY:October 3Chamber Luncheon "Crisis Management & Communications"
DESCRIPTION:This fast-paced talk by crisis communications and media specialist Stephanie York\, will focus on a highly-strategic approach to communicating during a wide variety of situations\, offering methods for establishing and maintaining "control of the message\," enabling you to move your message forward or mount a defense against a sudden press onslaught.\n\n\n\nAccident  Accusation of fiscal mismanagement   Active shooter   Data theft/loss  Death of a key executive   Embezzlement   Employee fraud   Explosion   Food-borne illness   OSHA citation   Ex-employee attacking on Facebook   Reputational challenges   Sexual misconduct   Unfair labor practices   Workplace violence   The PD is on line 3 looking for comment.....\n\n\n\nEspecially in today's world of immediate information\, when reporters won't wait long for you to return that call before posting the story online and where virtually everyone is a "journalist" armed with a camera and able to reach thousands of people with one simple Facebook message\, managing all communications amid a crisis is a necessary skill set for business leaders. \n\n\n\nAbout the Speaker: Stephanie York is vice president at Hennes Communications\, one the few firms in the U.S. focused exclusively on crisis communications and crisis management. Hennes Communications serves corporations\, government agencies\, nonprofits\, education and healthcare institutions\, as well as law firms and their clients\, that are "on trial" in the Court of Public Opinion. \n\n\n\nWith over 20 years' experience in law and communications\, Stephanie and the firm's past and present clients include the 2016 Cleveland Host Committee for the recent Republican National Convention\, ThyssenKrupp\, Avery Dennison\, Lubrizol\, Kent State University\, Oberlin College and the National Aeronautics and Space Administration\, as well as scores of municipalities and law firms across the U.S.  \n\n\n\nAn attorney\, Stephanie is better recognized as the assistant director of law and spokesperson for the City of Akron and former Mayor Don Plusquellic.  Besides serving on seven local non-profit boards\, she is president of the Downtown Kiwanis Foundation.
X-ALT-DESC;FMTTYPE=text/html:<br />\n<span style="font-size:14px\;"><span style="font-family:arial\;"><span style="color:#444444\;">This fast-paced talk by crisis communications and media specialist Stephanie York\, will focus on a highly-strategic approach to communicating during a wide variety of situations\, offering methods for establishing and maintaining &ldquo\;control of the message\,&rdquo\; enabling you to move your message forward or mount a defense against a sudden press onslaught.</span><br />\n<br />\n<strong><span style="border:none windowtext 1.0pt\;padding:0in\;"><span style="color:#444444\;">Accident &bull\;Accusation of fiscal mismanagement &bull\; Active shooter &bull\; Data theft/loss</span></span></strong><strong><span style="border:none windowtext 1.0pt\;padding:0in\;"><span style="color:#333333\;">&bull\;&nbsp\;</span></span></strong><strong><span style="border:none windowtext 1.0pt\;padding:0in\;"><span style="color:#444444\;">Death of a key executive &bull\; Embezzlement &bull\; Employee fraud &bull\; Explosion&nbsp\;&bull\; Food-borne illness &bull\; OSHA citation &bull\; Ex-employee attacking on Facebook&nbsp\;&bull\; Reputational&nbsp\;challenges &bull\; Sexual misconduct &bull\; Unfair labor practices&nbsp\;&bull\; Workplace violence &bull\; The PD is on line 3 looking for comment.....</span></span></strong><br />\n<br />\n<span style="color:#444444\;"><span style="border:none windowtext 1.0pt\;padding:0in\;">Especially in today&rsquo\;s world of immediate information\, when reporters won&rsquo\;t wait long for you to return that call before posting the story online and where virtually everyone is a &ldquo\;journalist&rdquo\; armed with a camera and able to reach thousands of people with one simple Facebook message\, managing all communications amid a crisis is a necessary skill set for business leaders.&nbsp\;</span></span><br />\n<br />\n<strong><span style="border:none windowtext 1.0pt\;padding:0in\;"><span style="color:#444444\;">About the Speaker:&nbsp\;</span></span></strong><span style="border:none windowtext 1.0pt\;padding:0in\;"><span style="color:#444444\;">Stephanie York is vice president at&nbsp\;Hennes&nbsp\;Communications\, one the few firms in the U.S. focused exclusively on crisis communications and crisis management.&nbsp\;Hennes&nbsp\;Communications serves corporations\, government agencies\, nonprofits\, education and healthcare institutions\, as well as law firms and their clients\, that are &ldquo\;on trial&rdquo\; in the Court of Public Opinion.&nbsp\;<br />\n<br />\nWith over 20 years&rsquo\; experience in law and communications\, Stephanie and the firm&rsquo\;s past and present clients include the 2016 Cleveland Host Committee for the recent Republican National Convention\, ThyssenKrupp\, Avery Dennison\, Lubrizol\, Kent State University\, Oberlin College and the National Aeronautics and Space Administration\, as</span></span><span style="border:none windowtext 1.0pt\;padding:0in\;"><span style="color:#444444\;">&nbsp\;well as scores of municipalities and law firms across the U.S.&nbsp\;&nbsp\;</span></span><br />\n<br />\n<span style="border:none windowtext 1.0pt\;padding:0in\;"><span style="color:#444444\;">An attorney\, Stephanie is better recognized as the assistant director of law and spokesperson for the City of Akron and former Mayor Don Plusquellic.&nbsp\; Besides serving on seven local non-profit boards\, she is president of the Downtown Kiwanis Foundation.</span></span></span></span><br />\n<br />\n<br />\n&nbsp\;<br />\n&nbsp\;
LOCATION:The Bertram Conference Center & Hotel 600 N Aurora Rd. Aurora\, OH 44202
UID:e.2230.1769
SEQUENCE:3
DTSTAMP:20260420T205031Z
URL:https://business.twinsburgchamber.com/events/details/october-3chamber-luncheon-crisis-management-communications-1769
END:VEVENT

END:VCALENDAR
