BEGIN:VCALENDAR
VERSION:2.0
PRODID:-//ChamberMaster//Event Calendar 2.0//EN
METHOD:PUBLISH
X-PUBLISHED-TTL:P3D
REFRESH-INTERVAL:P3D
CALSCALE:GREGORIAN
BEGIN:VEVENT
DTSTART:20170914T120000Z
DTEND:20170914T133000Z
X-MICROSOFT-CDO-ALLDAYEVENT:FALSE
SUMMARY:New Member Breakfast - Learn how to be involved!
DESCRIPTION:*This event has been postponed. Please keep a look for a future date announcement.\n\n\n\nAre you a new member of the Twinsburg Chamber? Or are you thinking about joining our Chamber? Join us for our new member and potential member breakfast to learn about our Chamber\, how to get involved\, and how the Chamber can help grow your business!
X-ALT-DESC;FMTTYPE=text/html:<br />\n<span style="font-size:18px\;"><span style="color:#FF0000\;"><strong>*This event has been postponed. Please keep a look for a future date announcement.</strong></span></span><br />\n<br />\n<span style="font-size:14px\;"><span style="font-family:arial\;">Are you a new member of the Twinsburg Chamber? Or are you thinking about joining our Chamber? Join us for our new member and potential member breakfast to learn about our Chamber\, how to get involved\, and how the Chamber can help grow your business!<br />\n&nbsp\;</span></span>
LOCATION:
UID:e.2230.1767
SEQUENCE:3
DTSTAMP:20260420T191027Z
URL:https://business.twinsburgchamber.com/events/details/new-member-breakfast-learn-how-to-be-involved-1767
END:VEVENT

END:VCALENDAR
