BEGIN:VCALENDAR
VERSION:2.0
PRODID:-//ChamberMaster//Event Calendar 2.0//EN
METHOD:PUBLISH
X-PUBLISHED-TTL:P3D
REFRESH-INTERVAL:P3D
CALSCALE:GREGORIAN
BEGIN:VEVENT
DTSTART:20160915T120000Z
DTEND:20160915T133000Z
X-MICROSOFT-CDO-ALLDAYEVENT:FALSE
SUMMARY:New Member Breakfast
DESCRIPTION:Are you a new member of the Twinsburg Chamber? Are you thinking about joining our Chamber? Join us for our new member and potential member breakfast to learn about our Chamber\, how to get involved\, and how the Chamber can help grow your business!
X-ALT-DESC;FMTTYPE=text/html:<br />\n<span style="font-size:14px\;"><span style="font-family:arial\;">Are you a new member of the Twinsburg Chamber? Are you thinking about joining our Chamber? Join us for our new member and potential member breakfast to learn about our Chamber\, how to get involved\, and how the Chamber can help grow your business!<br />\n&nbsp\;</span></span>
LOCATION:Maplewood at Twinsburg 2463 Sussex Blvd. Twinsburg\, OH 44087
UID:e.2230.1647
SEQUENCE:3
DTSTAMP:20260419T223043Z
URL:https://business.twinsburgchamber.com/events/details/new-member-breakfast-09-15-2016-1647
END:VEVENT

END:VCALENDAR
