BEGIN:VCALENDAR
VERSION:2.0
PRODID:-//ChamberMaster//Event Calendar 2.0//EN
METHOD:PUBLISH
X-PUBLISHED-TTL:P3D
REFRESH-INTERVAL:P3D
CALSCALE:GREGORIAN
BEGIN:VEVENT
DTSTART:20160225T130000Z
DTEND:20160225T143000Z
X-MICROSOFT-CDO-ALLDAYEVENT:FALSE
SUMMARY:New Member Breakfast
DESCRIPTION:Are you a new member of the Twinsburg Chamber? Are you thinking about joining our Chamber? Join us for our new member and potential member breakfast to learn about our Chamber\, how to get involved\, and how the Chamber can help grow your business!
X-ALT-DESC;FMTTYPE=text/html:<br />\n<span style="font-size:14px\;"><span style="font-family:arial\;">Are you a new member of the Twinsburg Chamber? Are you thinking about joining our Chamber? Join us for our new member and potential member breakfast to learn about our Chamber\, how to get involved\, and how the Chamber can help grow your business!<br />\n&nbsp\;</span></span>
LOCATION:Bob Evans 8900 Hadden Road Twinsburg\, OH 44087
UID:e.2230.317
SEQUENCE:3
DTSTAMP:20260421T104137Z
URL:https://business.twinsburgchamber.com/events/details/new-member-breakfast-02-25-2016-317
END:VEVENT

END:VCALENDAR
