BEGIN:VCALENDAR
VERSION:2.0
PRODID:-//ChamberMaster//Event Calendar 2.0//EN
METHOD:PUBLISH
X-PUBLISHED-TTL:P3D
REFRESH-INTERVAL:P3D
CALSCALE:GREGORIAN
BEGIN:VEVENT
DTSTART:20180925T150000Z
DTEND:20180925T170000Z
X-MICROSOFT-CDO-ALLDAYEVENT:FALSE
SUMMARY:Networking Palooza 5.0 Twinsburg Women In Networking (T.W.I.N) with Nordonia Women in Business Group
DESCRIPTION:A networking event by women\, for women! Come to "Networking\n\nPalooza 5.0" and spend every five minutes meeting and greeting\n\nother professionals women in Twinsburg & Nordonia. Bring your\n\nbusiness cards\, your "elevator speech" and your enthusiasm!
X-ALT-DESC;FMTTYPE=text/html:<br />\n<span style="font-size:14px\;"><span style="font-family:arial\;">A networking event by women\, for women! Come to <span style="color:#800080\;"><strong>&ldquo\;Networking<br />\nPalooza 5.0&rdquo\;</strong></span> and spend every five minutes meeting and greeting<br />\nother professionals women in Twinsburg &amp\; Nordonia. Bring your<br />\nbusiness cards\, your &ldquo\;elevator speech&rdquo\; and your enthusiasm!<br />\n&nbsp\;</span></span><br />\n<br />\n<br />\n&nbsp\;
LOCATION:Reinecker's Party Center 8575 Freeway Dr Macedonia\, Ohio 44056
UID:e.2230.2046
SEQUENCE:3
DTSTAMP:20260421T152518Z
URL:https://business.twinsburgchamber.com/events/details/networking-palooza-5-0-twinsburg-women-in-networking-t-w-i-n-with-nordonia-women-in-business-group-2046
END:VEVENT

END:VCALENDAR
