BEGIN:VCALENDAR
VERSION:2.0
PRODID:-//ChamberMaster//Event Calendar 2.0//EN
METHOD:PUBLISH
X-PUBLISHED-TTL:P3D
REFRESH-INTERVAL:P3D
CALSCALE:GREGORIAN
BEGIN:VEVENT
DTSTART:20160727T153000Z
DTEND:20160727T171500Z
X-MICROSOFT-CDO-ALLDAYEVENT:FALSE
SUMMARY:Networking Palooza 4.0 Twinsburg Women In Networking (T.W.I.N) with Professional Women's Network of Hudson
DESCRIPTION:A networking event by women\, for women! Come to "Networking\n\nPalooza 4.0" and spend every five minutes meeting and greeting\n\nother professionals women in Twinsburg & Hudson. Bring your\n\nbusiness cards\, your "elevator speech" and your enthusiasm!
X-ALT-DESC;FMTTYPE=text/html:<br />\n<span style="font-size:14px\;"><span style="font-family:arial\;">A networking event by women\, for women! Come to <span style="color:#800080\;"><strong>&ldquo\;Networking<br />\nPalooza 4.0&rdquo\;</strong></span> and spend every five minutes meeting and greeting<br />\nother professionals women in Twinsburg &amp\; Hudson. Bring your<br />\nbusiness cards\, your &ldquo\;elevator speech&rdquo\; and your enthusiasm!<br />\n&nbsp\;</span></span><br />\n<br />\n<br />\n&nbsp\;
LOCATION:Twinsburg Public Library 10050 Ravenna Road Twinsburg\, OH 44087
UID:e.2230.626
SEQUENCE:3
DTSTAMP:20260419T192450Z
URL:https://business.twinsburgchamber.com/events/details/networking-palooza-4-0-twinsburg-women-in-networking-t-w-i-n-with-professional-women-s-network-of-hudson-07-27-2016-626
END:VEVENT

END:VCALENDAR
