BEGIN:VCALENDAR
VERSION:2.0
PRODID:-//ChamberMaster//Event Calendar 2.0//EN
METHOD:PUBLISH
X-PUBLISHED-TTL:P3D
REFRESH-INTERVAL:P3D
CALSCALE:GREGORIAN
BEGIN:VEVENT
DTSTART:20170719T153000Z
DTEND:20170719T170000Z
X-MICROSOFT-CDO-ALLDAYEVENT:FALSE
SUMMARY:Networking Palooza 4.0 Twinsburg Women In Networking (T.W.I.N) with Cuyahoga Falls Women & Wisdom
DESCRIPTION:A networking event by women\, for women! Come to "Networking\n\nPalooza 4.0" and spend every five minutes meeting and greeting\n\nother professionals women in Twinsburg & Cuyahoga Falls. Bring your\n\nbusiness cards\, your "elevator speech" and your enthusiasm!
X-ALT-DESC;FMTTYPE=text/html:<br />\n<span style="font-size:14px\;"><span style="font-family:arial\;">A networking event by women\, for women! Come to <span style="color:#800080\;"><strong>&ldquo\;Networking<br />\nPalooza 4.0&rdquo\;</strong></span> and spend every five minutes meeting and greeting<br />\nother professionals women in Twinsburg &amp\; Cuyahoga Falls. Bring your<br />\nbusiness cards\, your &ldquo\;elevator speech&rdquo\; and your enthusiasm!<br />\n&nbsp\;</span></span><br />\n<br />\n<br />\n&nbsp\;
LOCATION:Blue Canyon Kitchen & Tavern 8960 Wilcox Drive Twinsburg\, OH 44087
UID:e.2230.1758
SEQUENCE:3
DTSTAMP:20260420T161729Z
URL:https://business.twinsburgchamber.com/events/details/networking-palooza-4-0-twinsburg-women-in-networking-t-w-i-n-with-cuyahoga-falls-women-wisdom-1758
END:VEVENT

END:VCALENDAR
