BEGIN:VCALENDAR
VERSION:2.0
PRODID:-//ChamberMaster//Event Calendar 2.0//EN
METHOD:PUBLISH
X-PUBLISHED-TTL:P3D
REFRESH-INTERVAL:P3D
CALSCALE:GREGORIAN
BEGIN:VEVENT
DTSTART:20240802T120000Z
DTEND:20240802T130000Z
X-MICROSOFT-CDO-ALLDAYEVENT:FALSE
SUMMARY:Networking On the Go!
DESCRIPTION:We hope you'll join us for this "once a year" FREE event full of spectacular prizes!
X-ALT-DESC;FMTTYPE=text/html:We hope you&#39\;ll join us for this &quot\;once a year&quot\; FREE event full of spectacular prizes!&nbsp\;&nbsp\;
LOCATION:GREAT LAKES HONDA 43 Pruitt Blvd. Akron\, OH 44310
UID:e.2230.3263
SEQUENCE:3
DTSTAMP:20260421T193314Z
URL:https://business.twinsburgchamber.com/events/details/networking-on-the-go-3263
END:VEVENT

END:VCALENDAR
