BEGIN:VCALENDAR
VERSION:2.0
PRODID:-//ChamberMaster//Event Calendar 2.0//EN
METHOD:PUBLISH
X-PUBLISHED-TTL:P3D
REFRESH-INTERVAL:P3D
CALSCALE:GREGORIAN
BEGIN:VEVENT
DTSTART:20221103T203000Z
DTEND:20221103T230000Z
X-MICROSOFT-CDO-ALLDAYEVENT:FALSE
SUMMARY:Multi-Chamber Young Professionals After Hours
DESCRIPTION:*Join 11 area Chamber Young Professionals for this FREE evening of networking and fun!\n\n*Appetizers are included. Registration is very much encouraged and extremely appreciated! We hope to see you there!\n\n\n\nREGISTER HERE
X-ALT-DESC;FMTTYPE=text/html:<span style="font-size:18px\;"><span style="font-size:16px\;">*Join 11 area Chamber <span style="color:#FF0000\;"><em><strong>Young Professionals</strong></em></span> for this FREE evening of networking and fun!</span></span><br />\n<span style="font-family: &quot\;Neue Plak&quot\;\, -apple-system\, BlinkMacSystemFont\, Roboto\, &quot\;Helvetica Neue&quot\;\, Helvetica\, Tahoma\, Arial\, sans-serif\; font-size: 16px\; background-color: rgb(255\, 255\, 255)\;">*Appetizers are included. Registration is very much encouraged and extremely appreciated! We hope to see you there!</span><br />\n<br />\n<a href="https://www.eventbrite.com/e/multi-chamber-yps-cuyahoga-falls-hosting-tickets-440515001227"><span style="font-size:20px\;"><strong>REGISTER HERE</strong></span></a>
LOCATION:Ohio Brewing Company 2250 Front Street Cuyahoga Falls\, OH 44221 REGISTER HERE
UID:e.2230.3201
SEQUENCE:3
DTSTAMP:20260421T204321Z
URL:https://business.twinsburgchamber.com/events/details/multi-chamber-young-professionals-after-hours-3201
END:VEVENT

END:VCALENDAR
