BEGIN:VCALENDAR
VERSION:2.0
PRODID:-//ChamberMaster//Event Calendar 2.0//EN
METHOD:PUBLISH
X-PUBLISHED-TTL:P3D
REFRESH-INTERVAL:P3D
CALSCALE:GREGORIAN
BEGIN:VEVENT
DTSTART:20160811T200000Z
DTEND:20160811T230000Z
X-MICROSOFT-CDO-ALLDAYEVENT:FALSE
SUMMARY:Multi-Chamber Speed Networking Event - 7 Chambers Participating!
DESCRIPTION:Click Here to Register!\n\nExpand your networking reach with our area's largest Multi-Chamber Speed Networking Event! 7 Chamber Participating - Aurora\, Beachwood\, Garfield Heights\, Solon\, Streetsboro\, Twinsburg\, Warrensville Heights Area Chambers of Commerce! *Member event only
X-ALT-DESC;FMTTYPE=text/html:<br />\n<a href="http://beachwoodchamber.chambermaster.com/events/details/multi-chamber-speed-networking-event-6027" target="_blank"><span style="font-size:14px\;">Click Here to Register!</span></a><br />\n<span style="font-size:14px\;"><span style="font-family:arial\;">Expand your networking reach with our area&#39\;s largest Multi-Chamber Speed Networking Event! 7 Chamber Participating - Aurora\, Beachwood\, Garfield Heights\, Solon\, Streetsboro\, Twinsburg\, Warrensville Heights Area Chambers of Commerce! <span style="color:#FF0000\;"><em><strong>*Member event only</strong></em></span></span></span><br />\n&nbsp\;
LOCATION:Embassy Suites Beachwood 3775 Park East Drive Beachwood\, OH 44122
UID:e.2230.640
SEQUENCE:3
DTSTAMP:20260419T204442Z
URL:https://business.twinsburgchamber.com/events/details/multi-chamber-speed-networking-event-7-chambers-participating-08-11-2016-640
END:VEVENT

END:VCALENDAR
