BEGIN:VCALENDAR
VERSION:2.0
PRODID:-//ChamberMaster//Event Calendar 2.0//EN
METHOD:PUBLISH
X-PUBLISHED-TTL:P3D
REFRESH-INTERVAL:P3D
CALSCALE:GREGORIAN
BEGIN:VEVENT
DTSTART:20190423T210000Z
DTEND:20190423T230000Z
X-MICROSOFT-CDO-ALLDAYEVENT:FALSE
SUMMARY:Multi-Chamber Social Networking Business After Hours
DESCRIPTION:Registration Now Open!\n\n\nJoin fellow members of the Twinsburg Chamber of Commerce along with business representatives from 17 Chambers of Commerce for our 5th Annual Multi-Chamber Social Networking Business After Hours!\n\n\n\n17 Chambers are coming together with a gathering of over several hunder business professionals and a GUARANTEE that you WILL meet NEW business contacts! We'll make the plans\, you mark your calendar and bring your business cards!
X-ALT-DESC;FMTTYPE=text/html:<div style="margin-left:0in\;"><a href="https://kentbiz.chambermaster.com/eventregistration/register/2872"><span style="font-size:20px\;">Registration Now Open!</span></a></div>\n<br />\n<span style="font-size:14px\;"><span style="font-family:arial\;">Join fellow members of the Twinsburg Chamber of Commerce along with business representatives from 17 Chambers of Commerce for our 5th&nbsp\;Annual Multi-Chamber&nbsp\;Social Networking Business After Hours!<br />\n<br />\n<strong>17 Chambers</strong> are coming together with a gathering of over several hunder business professionals and a <strong>GUARANTEE</strong>&nbsp\;that you <strong>WILL</strong> meet <strong>NEW</strong> business contacts! We&#39\;ll make the plans\, you mark your calendar and bring your business cards!</span></span>
LOCATION:Kent State University Hotel & Conference Center 215 S Depeyster Street Kent \, OH 44240 On-Street Parking and Public Parking Lots are free in downtown Kent starting at 5:00 pm. HOWEVER there is a nominal charge to park in the PARTA Parking Deck directly across the street from the Hotel.
UID:e.2230.2181
SEQUENCE:3
DTSTAMP:20260422T040333Z
URL:https://business.twinsburgchamber.com/events/details/multi-chamber-social-networking-business-after-hours-2181
END:VEVENT

END:VCALENDAR
