BEGIN:VCALENDAR
VERSION:2.0
PRODID:-//ChamberMaster//Event Calendar 2.0//EN
METHOD:PUBLISH
X-PUBLISHED-TTL:P3D
REFRESH-INTERVAL:P3D
CALSCALE:GREGORIAN
BEGIN:VEVENT
DTSTART:20170418T210000Z
DTEND:20170418T230000Z
X-MICROSOFT-CDO-ALLDAYEVENT:FALSE
SUMMARY:Multi-Chamber Social Networking Business After Hours - 18 Chambers!
DESCRIPTION:Register Here!\n\n\n\nJoin Twinsburg\, Towpath\, Tallmadge\, Streetsboro\, Stow-Munroe Falls\, Springfield Lakemore\, South Summit\, Solon\, Ravenna\, Nordonia Hills\, Kent\, Greater Akron\, Cuyahoga Falls\, Hudson\, Rootstown\, Mantua and the Aurora Chambers of Commerce for our 3rd Annual Multi-Chamber Social Networking Business After Hours!\n\n\n\n18 Chambers are coming together with a gathering of over 300 business professionals and a GUARANTEE that you WILL meet NEW business contacts! We'll make the plans\, you mark your calendar and bring your business cards!
X-ALT-DESC;FMTTYPE=text/html:<span style="font-size:14px\;"><span style="font-family:arial\;">&nbsp\; &nbsp\; &nbsp\; &nbsp\; &nbsp\; &nbsp\; &nbsp\; &nbsp\; &nbsp\; &nbsp\; &nbsp\; &nbsp\; &nbsp\; &nbsp\; &nbsp\; &nbsp\; &nbsp\; &nbsp\;<br />\n&nbsp\;&nbsp\; &nbsp\; &nbsp\; &nbsp\; &nbsp\; &nbsp\; &nbsp\; &nbsp\; &nbsp\; &nbsp\; &nbsp\; &nbsp\; &nbsp\; &nbsp\; &nbsp\; &nbsp\; &nbsp\; &nbsp\; &nbsp\;&nbsp\;<a href="http://business.smfcc.com/events/details/18-chamber-social-networking-business-after-hours-2017-members-only-april-18-2017-2513" target="_blank"><span style="font-size:20px\;">Register Here!</span></a><br />\n<br />\nJoin Twinsburg\, Towpath\, Tallmadge\, Streetsboro\, Stow-Munroe Falls\, Springfield Lakemore\, South Summit\, Solon\, Ravenna\, Nordonia Hills\, Kent\, Greater Akron\, Cuyahoga Falls\, Hudson\, Rootstown\, Mantua&nbsp\;and the Aurora Chambers of Commerce for our 3rd Annual Multi-Chamber&nbsp\;Social Networking Business After Hours!<br />\n<br />\n<span style="color:#FF0000\;"><strong>18 Chambers</strong></span> are coming together with a gathering of over 300 business professionals and a <strong>GUARANTEE</strong>&nbsp\;that you <strong>WILL</strong> meet <strong>NEW</strong> business contacts! We&#39\;ll make the plans\, you mark your calendar and bring your business cards!</span></span>
LOCATION:The NEW Center NEOMED 4211 SR 44 Rootstown\, OH 44272
UID:e.2230.1741
SEQUENCE:3
DTSTAMP:20260420T110353Z
URL:https://business.twinsburgchamber.com/events/details/multi-chamber-social-networking-business-after-hours-18-chambers-1741
END:VEVENT

END:VCALENDAR
