BEGIN:VCALENDAR
VERSION:2.0
PRODID:-//ChamberMaster//Event Calendar 2.0//EN
METHOD:PUBLISH
X-PUBLISHED-TTL:P3D
REFRESH-INTERVAL:P3D
CALSCALE:GREGORIAN
BEGIN:VEVENT
DTSTART:20180424T210000Z
DTEND:20180424T230000Z
X-MICROSOFT-CDO-ALLDAYEVENT:FALSE
SUMMARY:Multi-Chamber Social Networking Business After Hours - 15 Chambers!
DESCRIPTION:Register Here!\n\n\n\nJoin Twinsburg\, Towpath\, Tallmadge\, Streetsboro\, Stow-Munroe Falls\, South Summit\, Solon\, Peninsula\, Nordonia Hills\, Kent\, Fairlawn\, Greater Akron\, Cuyahoga Falls\, Hudson and the Aurora Chambers of Commerce for our 4th Annual Multi-Chamber Social Networking Business After Hours!\n\n\n\n15 Chambers are coming together with a gathering of over several hunder business professionals and a GUARANTEE that you WILL meet NEW business contacts! We'll make the plans\, you mark your calendar and bring your business cards!
X-ALT-DESC;FMTTYPE=text/html:<span style="font-size:14px\;"><span style="font-family:arial\;">&nbsp\; &nbsp\; &nbsp\; &nbsp\; &nbsp\; &nbsp\; &nbsp\; &nbsp\; &nbsp\; &nbsp\; &nbsp\; &nbsp\; &nbsp\; &nbsp\; &nbsp\; &nbsp\; &nbsp\; &nbsp\;<br />\n&nbsp\;&nbsp\; &nbsp\; &nbsp\; &nbsp\; &nbsp\; &nbsp\; &nbsp\; &nbsp\; &nbsp\; &nbsp\; &nbsp\; &nbsp\; &nbsp\; &nbsp\; &nbsp\; &nbsp\; &nbsp\; &nbsp\; &nbsp\;&nbsp\;<a href="https://cfchamber.chambermaster.com/eventregistration/register/3792" target="_blank"><span style="font-size:20px\;">Register Here!</span></a><br />\n<br />\nJoin Twinsburg\, Towpath\, Tallmadge\, Streetsboro\, Stow-Munroe Falls\,&nbsp\;South Summit\, Solon\, Peninsula\, Nordonia Hills\, Kent\, Fairlawn\, Greater Akron\, Cuyahoga Falls\, Hudson and the Aurora Chambers of Commerce for our 4th&nbsp\;Annual Multi-Chamber&nbsp\;Social Networking Business After Hours!<br />\n<br />\n<span style="color:#FF0000\;"><strong>15 Chambers</strong></span> are coming together with a gathering of over several hunder business professionals and a <strong>GUARANTEE</strong>&nbsp\;that you <strong>WILL</strong> meet <strong>NEW</strong> business contacts! We&#39\;ll make the plans\, you mark your calendar and bring your business cards!</span></span>
LOCATION:Sheraton Suites 1989 Front Street Cuyahoga Falls\, OH 44211
UID:e.2230.1799
SEQUENCE:3
DTSTAMP:20260421T072459Z
URL:https://business.twinsburgchamber.com/events/details/multi-chamber-social-networking-business-after-hours-15-chambers-1799
END:VEVENT

END:VCALENDAR
