BEGIN:VCALENDAR
VERSION:2.0
PRODID:-//ChamberMaster//Event Calendar 2.0//EN
METHOD:PUBLISH
X-PUBLISHED-TTL:P3D
REFRESH-INTERVAL:P3D
CALSCALE:GREGORIAN
BEGIN:VEVENT
DTSTART:20160426T210000Z
DTEND:20160426T230000Z
X-MICROSOFT-CDO-ALLDAYEVENT:FALSE
SUMMARY:Multi-Chamber Social Networking Business After Hours - 15 Chambers!
DESCRIPTION:-CLOSED-\n\n\n\n                                     Register Here!\n\n\n\nJoin Twinsburg\, Towpath\, Tallmadge\, Streetsboro\, Stow-Munroe Falls\, Springfield Lakemore\, South Summit\, Solon\, Ravenna\, Nordonia Hills\, Kent\, Greater Akron\, Cuyahoga Falls\, COSE and the Aurora Chamber of Commerce for our 2nd Annual Multi-Chamber Social Networking Business After Hours!\n\n\n\n15 Chambers are coming together with a potential gathering of over 300 business professionals and a GUARANTEE that you WILL meet NEW business contacts! We'll make the plans\, you mark your calendar and bring your business cards!
X-ALT-DESC;FMTTYPE=text/html:<span style="font-size:14px\;"><span style="font-family:arial\;">&nbsp\; &nbsp\; &nbsp\; &nbsp\; &nbsp\; &nbsp\; &nbsp\; &nbsp\; &nbsp\; &nbsp\; &nbsp\; &nbsp\; &nbsp\; &nbsp\; &nbsp\; &nbsp\; &nbsp\; &nbsp\;&nbsp\;<br />\n<span style="font-size:24px\;"><span style="color:#FF0000\;"><strong>&nbsp\; &nbsp\; &nbsp\; &nbsp\; &nbsp\; &nbsp\; &nbsp\; &nbsp\; &nbsp\; &nbsp\; &nbsp\; <span style="font-size:28px\;">-CLOSED-</span></strong></span></span><br />\n<br />\n&nbsp\;&nbsp\; &nbsp\; &nbsp\; &nbsp\; &nbsp\; &nbsp\; &nbsp\; &nbsp\; &nbsp\; &nbsp\; &nbsp\; &nbsp\; &nbsp\; &nbsp\; &nbsp\; &nbsp\; &nbsp\;&nbsp\;&nbsp\; <span style="font-size:20px\;"><a href="http://smfcc.chambermaster.com/events/details/multi-chamber-business-after-hours-2304" target="_blank"><span style="color:#FF0000\;">Register Here!</span></a></span><br />\n<br />\nJoin Twinsburg\, Towpath\, Tallmadge\, Streetsboro\, Stow-Munroe Falls\, Springfield Lakemore\, South Summit\, Solon\, Ravenna\, Nordonia Hills\, Kent\, Greater Akron\, Cuyahoga Falls\, COSE and the Aurora Chamber of Commerce for our 2nd Annual Multi-Chamber&nbsp\;Social Networking Business After Hours!<br />\n<br />\n<span style="color:#FF0000\;"><strong>15 Chambers</strong></span> are coming together with a potential gathering of over 300 business professionals and a <strong>GUARANTEE</strong>&nbsp\;that you <strong>WILL</strong> meet <strong>NEW</strong> business contacts! We&#39\;ll make the plans\, you mark your calendar and bring your business cards!</span></span>
LOCATION:Kent State University Hotel & Conference Center 215 S. Depeyster Street Kent\, OH 44240
UID:e.2230.348
SEQUENCE:3
DTSTAMP:20260419T141220Z
URL:https://business.twinsburgchamber.com/events/details/multi-chamber-social-networking-business-after-hours-15-chambers-04-26-2016-348
END:VEVENT

END:VCALENDAR
