BEGIN:VCALENDAR
VERSION:2.0
PRODID:-//ChamberMaster//Event Calendar 2.0//EN
METHOD:PUBLISH
X-PUBLISHED-TTL:P3D
REFRESH-INTERVAL:P3D
CALSCALE:GREGORIAN
BEGIN:VEVENT
DTSTART:20220601T200000Z
DTEND:20220601T220000Z
X-MICROSOFT-CDO-ALLDAYEVENT:FALSE
SUMMARY:Multi Chamber Networking Night
DESCRIPTION:Join us for a early evening networking event in the Butterfly Garden at Sarah's Vineyard.
X-ALT-DESC;FMTTYPE=text/html:<span style="font-family: &quot\;Open Sans&quot\;\, Arial\, sans-serif\; font-size: 16px\; background-color: rgb(255\, 255\, 255)\;">Join us for a early evening networking event in the Butterfly Garden at Sarah&#39\;s Vineyard.</span><br />\n&nbsp\;
LOCATION:Sarah's Vineyard 1204 W. Steels Corners Road Cuyahoga Falls\, Oh 4423 REGISTER HERE
UID:e.2230.3180
SEQUENCE:3
DTSTAMP:20260422T044550Z
URL:https://business.twinsburgchamber.com/events/details/multi-chamber-networking-night-3180
END:VEVENT

END:VCALENDAR
