BEGIN:VCALENDAR
VERSION:2.0
PRODID:-//ChamberMaster//Event Calendar 2.0//EN
METHOD:PUBLISH
X-PUBLISHED-TTL:P3D
REFRESH-INTERVAL:P3D
CALSCALE:GREGORIAN
BEGIN:VEVENT
DTSTART:20260128T134500Z
DTEND:20260128T150000Z
X-MICROSOFT-CDO-ALLDAYEVENT:FALSE
SUMMARY:Multi Chamber Coffee & Collaborations!
DESCRIPTION:Join business leaders from Twinsburg\, Streetsboro and Hudson for a morning of networking and collaboration.  Build connections\, share ideas\, and fuel your success!
X-ALT-DESC;FMTTYPE=text/html:<span style="font-size:16px\;">Join business leaders from Twinsburg\, Streetsboro and Hudson for a morning of networking and collaboration.&nbsp\; Build connections\, share ideas\, and fuel your success!</span>
LOCATION:Home Appliance 2695 Creekside Drive Twinsburg\, OH 44087
UID:e.2230.3305
SEQUENCE:3
DTSTAMP:20260421T213043Z
URL:https://business.twinsburgchamber.com/events/details/multi-chamber-coffee-collaborations-3305
END:VEVENT

END:VCALENDAR
