BEGIN:VCALENDAR
VERSION:2.0
PRODID:-//ChamberMaster//Event Calendar 2.0//EN
METHOD:PUBLISH
X-PUBLISHED-TTL:P3D
REFRESH-INTERVAL:P3D
CALSCALE:GREGORIAN
BEGIN:VEVENT
DTSTART:20250911T124500Z
DTEND:20250911T140000Z
X-MICROSOFT-CDO-ALLDAYEVENT:FALSE
SUMMARY:Multi Chamber Coffee & Collaborations!
DESCRIPTION:Join business leaders from Hudson\, Twinsburg and Streetsboro for a morning of networking and collaboration.  Build connections\, share ideas\, and fuel your success for 2025!
X-ALT-DESC;FMTTYPE=text/html:<span style="font-size:16px\;">Join business leaders from Hudson\, Twinsburg and Streetsboro for a morning of networking and collaboration.&nbsp\; Build connections\, share ideas\, and fuel your success for 2025!</span>
LOCATION:Handy Rents Streetsboro 10050 Wellman Road Streetsboro\, OH 44241
UID:e.2230.3302
SEQUENCE:3
DTSTAMP:20260422T014316Z
URL:https://business.twinsburgchamber.com/events/details/multi-chamber-coffee-collaborations-3302
END:VEVENT

END:VCALENDAR
