BEGIN:VCALENDAR
VERSION:2.0
PRODID:-//ChamberMaster//Event Calendar 2.0//EN
METHOD:PUBLISH
X-PUBLISHED-TTL:P3D
REFRESH-INTERVAL:P3D
CALSCALE:GREGORIAN
BEGIN:VEVENT
DTSTART:20250109T134500Z
DTEND:20250109T150000Z
X-MICROSOFT-CDO-ALLDAYEVENT:FALSE
SUMMARY:Multi Chamber Coffee & Collaborations!
DESCRIPTION:
X-ALT-DESC;FMTTYPE=text/html:
LOCATION:The Farmer's Rail 98 N. Main Street Hudson\, OH 44236
UID:e.2230.3282
SEQUENCE:3
DTSTAMP:20260421T125609Z
URL:https://business.twinsburgchamber.com/events/details/multi-chamber-coffee-collaborations-3282
END:VEVENT

END:VCALENDAR
