BEGIN:VCALENDAR
VERSION:2.0
PRODID:-//ChamberMaster//Event Calendar 2.0//EN
METHOD:PUBLISH
X-PUBLISHED-TTL:P3D
REFRESH-INTERVAL:P3D
CALSCALE:GREGORIAN
BEGIN:VEVENT
DTSTART:20180928T113000Z
DTEND:20180928T150000Z
X-MICROSOFT-CDO-ALLDAYEVENT:FALSE
SUMMARY:Multi-Chamber Boot Camp
DESCRIPTION:Register Here!\n\n\n\nJoin Twinsburg\, Tallmadge\, Streetsboro\, Stow-Munroe Falls\, South Summit\, Solon\, Rootstown\, Hudson\, Green\, Fairlawn\, Greater Akron\, Cuyahoga Falls\, and the Aurora Chambers of Commerce along with Western Reserve Hospital for this one-time professional development seminar for small business owners.
X-ALT-DESC;FMTTYPE=text/html:<span style="font-size:14px\;"><span style="font-family:arial\;">&nbsp\; &nbsp\; &nbsp\; &nbsp\; &nbsp\; &nbsp\; &nbsp\; &nbsp\; &nbsp\; &nbsp\; &nbsp\; &nbsp\; &nbsp\; &nbsp\; &nbsp\; &nbsp\; &nbsp\; &nbsp\;<br />\n&nbsp\;&nbsp\; &nbsp\; &nbsp\; &nbsp\; &nbsp\; &nbsp\; &nbsp\; &nbsp\; &nbsp\; &nbsp\; &nbsp\; &nbsp\; &nbsp\; &nbsp\; &nbsp\; &nbsp\; &nbsp\; &nbsp\; &nbsp\;&nbsp\;<a href="https://cfchamber.chambermaster.com/eventregistration/register/5089" target="_blank"><span style="font-size:20px\;">Register Here!</span></a><br />\n<br />\nJoin Twinsburg\, Tallmadge\, Streetsboro\, Stow-Munroe Falls\,&nbsp\;South Summit\, Solon\, Rootstown\, Hudson\, Green\, Fairlawn\, Greater Akron\, Cuyahoga Falls\, and the Aurora Chambers of Commerce along with Western Reserve Hospital for this<span style="color:#FF0000\;"><strong> </strong></span><em><span style="color:#FF0000\;"><strong>one-time professional development seminar for small business owners.</strong></span></em></span></span><br />\n<br />\n&nbsp\;
LOCATION:Cuyahoga Falls Natatorium 2345 4th Street Cuyahoga Falls\, OH 44221
UID:e.2230.2047
SEQUENCE:3
DTSTAMP:20260421T153449Z
URL:https://business.twinsburgchamber.com/events/details/multi-chamber-boot-camp-2047
END:VEVENT

END:VCALENDAR
