BEGIN:VCALENDAR
VERSION:2.0
PRODID:-//ChamberMaster//Event Calendar 2.0//EN
METHOD:PUBLISH
X-PUBLISHED-TTL:P3D
REFRESH-INTERVAL:P3D
CALSCALE:GREGORIAN
BEGIN:VEVENT
DTSTART:20180418T120000Z
DTEND:20180418T130000Z
X-MICROSOFT-CDO-ALLDAYEVENT:FALSE
SUMMARY:Mental Health & Workplace Wellness. Why Should We Care? Hosted by T.W.I.N. (Twinsburg Women In Networking)
DESCRIPTION:Hosted by Twinsburg Women In Networking - this event is open to ALL MEMBERS!\n\n\n\nApril Speaker & Topic: Dr. Lori Posk M.D. "Mental Health & Workplace Wellness.  Why Should We Care?  \n\n\n\n\n\nMental Health plays an important role in the workplace from  \n\nindividual performance to those that are caring for a loved one.  Come discuss ways to improve mental health for yourself and co-workers and resources available for treatment.
X-ALT-DESC;FMTTYPE=text/html:<span style="font-size:14px\;"><span style="font-family:arial\;"><b><u><span style="color:#800080\;">Hosted by Twinsburg&nbsp\;Women In Networking - this event is open to ALL MEMBERS!</span></u><br />\n<br />\n<span style="color:#9fce60\;"><u>April Speaker &amp\; Topic:</u></span>&nbsp\;Dr. Lori Posk&nbsp\;M.D. &quot\;Mental Health &amp\; Workplace Wellness.&nbsp\; Why Should We Care?&nbsp\; </b></span></span><br />\n<br />\n<br />\n<span style="font-size:14px\;"><span style="font-weight:bold\;language:en-US\;"><span style="color:black\;"><span style="font-family:constantia\;">Mental Health plays an important role in the workplace from&nbsp\; </span></span></span><br />\n<span style="font-weight:bold\;language:en-US\;"><span style="color:black\;"><span style="font-family:constantia\;">individual performance to those that are caring for a loved one.&nbsp\; Come discuss ways to improve mental health for yourself and co-workers and resources available for treatment.&nbsp\; </span></span></span><br />\n&nbsp\;</span><br />\n<br />\n&nbsp\;
LOCATION:Cleveland Clinic Family Health & Surgery Center 8701 Darrow Rd Twinsburg\, OH 44087
UID:e.2230.1798
SEQUENCE:3
DTSTAMP:20260421T072640Z
URL:https://business.twinsburgchamber.com/events/details/mental-health-workplace-wellness-why-should-we-care-hosted-by-t-w-i-n-twinsburg-women-in-networking-1798
END:VEVENT

END:VCALENDAR
