BEGIN:VCALENDAR
VERSION:2.0
PRODID:-//ChamberMaster//Event Calendar 2.0//EN
METHOD:PUBLISH
X-PUBLISHED-TTL:P3D
REFRESH-INTERVAL:P3D
CALSCALE:GREGORIAN
BEGIN:VEVENT
DTSTART:20191016T160000Z
DTEND:20191016T183000Z
X-MICROSOFT-CDO-ALLDAYEVENT:FALSE
SUMMARY:MEMBER EVENT- Lunch & Learn: Power of the Inbox
DESCRIPTION:What is the first impression you give when they see you in their email inbox? And when they see you there\, what do they do? This powerful seminar takes you step-by-step through the keys to effective email marketing including what it is (and isn't)\, what it can do for your business and five easy steps you must take to harness the power of the inbox listed below:\n\nLet us help you:\n\n\n	Grow a healthy list\n	Create great content\n	Customize a beautiful\, mobile-friendly template that matches your brand\n	How to get your emails opened\n	Tracking your results\n\n\nFrom revealing why regular emails work\, to insider tips and techniques like automated list building tools and the design elements that work (and those that don't!)\, this seminar will give you the keys to the most effective marketing you can do\, email marketing.\n\nA boxed lunch is included with registration. Lunch consists of a sandwich\, side\, and cookie.
X-ALT-DESC;FMTTYPE=text/html:<p>What is the first impression you give when they see you in their email inbox? And when they see you there\, what do they do? This powerful seminar takes you step-by-step through the keys to effective email marketing including what it is (and isn&rsquo\;t)\, what it can do for your business and five easy steps you must take to harness the power of the inbox listed below:</p>\n\n<p><strong>Let us help you:</strong></p>\n\n<ul>\n	<li>Grow a healthy list</li>\n	<li>Create great content</li>\n	<li>Customize a beautiful\, mobile-friendly template that matches your brand</li>\n	<li>How to get your emails opened</li>\n	<li>Tracking your results</li>\n</ul>\n\n<p>From revealing why regular emails work\, to insider tips and techniques like automated list building tools and the design elements that work (and those that don&rsquo\;t!)\, this seminar will give you the keys to the most effective marketing you can do\, email marketing.</p>\n\n<p>A boxed lunch is included with registration. Lunch consists of a sandwich\, side\, and cookie.</p>\n
LOCATION:41 S. Oviatt St. Hudson\, OH 44236 United States
UID:e.2230.2211
SEQUENCE:3
DTSTAMP:20260422T184738Z
URL:https://business.twinsburgchamber.com/events/details/member-event-lunch-learn-power-of-the-inbox-2211
END:VEVENT

END:VCALENDAR
