BEGIN:VCALENDAR
VERSION:2.0
PRODID:-//ChamberMaster//Event Calendar 2.0//EN
METHOD:PUBLISH
X-PUBLISHED-TTL:P3D
REFRESH-INTERVAL:P3D
CALSCALE:GREGORIAN
BEGIN:VEVENT
DTSTART:20180712T153000Z
DTEND:20180712T171500Z
X-MICROSOFT-CDO-ALLDAYEVENT:FALSE
SUMMARY:Member Appreciation Picnic & Chamber Champion Awards
DESCRIPTION:The Twinsburg Chamber will be hosting our Annual Member Appreciation Luncheon to thank all of our members for everything you have done for us this year! Please join us for a picnic as we thank all of our amazing Chamber members!\n\n\n\nThe Chamber will also be honoring four "Chamber Champions\," members who have gone above and beyond this year to help the Chamber and our community! Could it be you?\n\n\n\nAny attendee to donate a door prize will be able to give a 30 second commercial of your business and pull the winning business card! If you would like to donate a prize\, please contact us at 330-963-6249 or meberhart@twinsburgchamber.com \n\n\n\nSponsored by Hilton Garden Inn\, Twinsburg
X-ALT-DESC;FMTTYPE=text/html:<br />\n<span style="font-size:14px\;"><span style="font-family:arial\;">The Twinsburg Chamber will be hosting our <span style="color:#FF0000\;"><strong>Annual Member Appreciation Luncheon</strong></span> to thank all of our members for everything you have done for us this year! Please join us for a picnic as we thank all of our amazing Chamber members!<br />\n<br />\nThe Chamber will also be honoring four &ldquo\;Chamber Champions\,&rdquo\; members who have gone above and beyond this year to help the Chamber and our community! Could it be you?<br />\n<br />\nAny attendee to donate a door prize will be able to give a 30 second commercial of your business and pull the winning business card! If you would like to donate a prize\, please contact us at 330-963-6249 or <u><span style="color:#0000FF\;">meberhart</span></u><span style="color:#0000FF\;"><span style="text-decoration:underline\;text-underline:single\;language:en-US\;"><a href="mailto:aschroll@twinsburgchamber.com?subject=Gift%20Donation%20for%20Member%20Appreciation%20Picnic%20">@twinsburgchamber.com </a></span></span><br />\n<br />\n<span style="color:#FF0000\;"><u>Sponsored by Hilton Garden Inn\, Twinsburg</u></span><br />\n&nbsp\;</span></span>
LOCATION:Twinsburg Hilton Garden Inn 8971 Wilcox Drive Twinsburg\, OH 44087
UID:e.2230.2034
SEQUENCE:3
DTSTAMP:20260421T134534Z
URL:https://business.twinsburgchamber.com/events/details/member-appreciation-picnic-chamber-champion-awards-2034
END:VEVENT

END:VCALENDAR
