BEGIN:VCALENDAR
VERSION:2.0
PRODID:-//ChamberMaster//Event Calendar 2.0//EN
METHOD:PUBLISH
X-PUBLISHED-TTL:P3D
REFRESH-INTERVAL:P3D
CALSCALE:GREGORIAN
BEGIN:VEVENT
DTSTART:20240710T153000Z
DTEND:20240710T173000Z
X-MICROSOFT-CDO-ALLDAYEVENT:FALSE
SUMMARY:Member Appreciation Lunch
DESCRIPTION:Join us as we celebrate and show our appreciation for YOU!\n\n\n\nThe Twinsburg Chamber will be hosting our Membership Appreciation Picnic Luncheon on Wednesday\, July 10th\, 2024.\n\n\n\nPlease join us for a picnic style buffet compliments of our sponsor the Hilton Garden Inn Twinsburg. \n\n(*kindly limit the number of guests to 3 per company.  Additional guests can attend for a small fee\, and can be registered by calling the Chamber office at 330-963-6249)\n\n\n\nThis events celebrates you - our members!  \n\n\n\nAny attendee to donate a door prize will be able to give a 30 second commercial of your business and pull the winning business card! If you would like to donate a prize\, please contact us at 330-963-6249 or atonozzi@twinsburgchamber.com\n\n\n\nSponsored by Hilton Garden Inn\, Twinsburg
X-ALT-DESC;FMTTYPE=text/html:Join us as we celebrate and show our appreciation for YOU!<br />\n<br />\n<span style="color: rgb(51\, 51\, 51)\; font-family: sans-serif\, Arial\, Verdana\, &quot\;Trebuchet MS&quot\;\; font-size: 14px\;"><span style="font-family: arial\;">The Twinsburg Chamber will be hosting our&nbsp\;<span style="color: rgb(255\, 0\, 0)\;"><strong>Membership Appreciation Picnic Luncheon&nbsp\;</strong></span><span style="color: rgb(0\, 0\, 0)\;">on Wednesday\, July 10th\, 2024.</span></span></span><br style="color: rgb(51\, 51\, 51)\; font-family: sans-serif\, Arial\, Verdana\, &quot\;Trebuchet MS&quot\;\; font-size: 13px\;" />\n<br style="color: rgb(51\, 51\, 51)\; font-family: sans-serif\, Arial\, Verdana\, &quot\;Trebuchet MS&quot\;\; font-size: 13px\;" />\n<span style="color: rgb(51\, 51\, 51)\; background-color: rgb(255\, 255\, 255)\; font-family: arial\; font-size: 14px\;">Please join us for a picnic style buffet compliments of our sponsor the&nbsp\;</span><span style="background-color: rgb(255\, 255\, 255)\; font-family: arial\; font-size: 14px\; color: rgb(255\, 0\, 0)\;"><strong>Hilton Garden Inn Twinsburg</strong></span><span style="color: rgb(51\, 51\, 51)\; background-color: rgb(255\, 255\, 255)\; font-family: arial\; font-size: 14px\;">.&nbsp\;</span><br style="color: rgb(51\, 51\, 51)\; font-family: sans-serif\, Arial\, Verdana\, &quot\;Trebuchet MS&quot\;\; font-size: 13px\;" />\n<span style="font-family: sans-serif\, Arial\, Verdana\, &quot\;Trebuchet MS&quot\;\; font-size: 14px\;"><span style="font-family: arial\;"><em>(*kindly limit the number of guests to 3 per company.&nbsp\; Additional guests can attend for a small fee\, and can be registered by calling the Chamber office at 330-963-6249)</em><br />\n<br />\nThis events celebrates you - our members!&nbsp\;&nbsp\;<br />\n<br />\nAny attendee to donate a door prize will be able to give a 30 second commercial of your business and pull the winning business card! If you would like to donate a prize\, please contact us at 330-963-6249 or <font color="#0000ff"><a href="mailto:atonozzi@twinsburgchamber.com">atonozzi@twinsburgchamber.com</a></font><br />\n<br />\n<span style="color: rgb(255\, 0\, 0)\;"><u>Sponsored by Hilton Garden Inn\, Twinsburg</u></span><br />\n&nbsp\;</span></span>
LOCATION:Hilton Garden Inn
UID:e.2230.3272
SEQUENCE:3
DTSTAMP:20260420T052950Z
URL:https://business.twinsburgchamber.com/events/details/member-appreciation-lunch-3272
END:VEVENT

END:VCALENDAR
