BEGIN:VCALENDAR
VERSION:2.0
PRODID:-//ChamberMaster//Event Calendar 2.0//EN
METHOD:PUBLISH
X-PUBLISHED-TTL:P3D
REFRESH-INTERVAL:P3D
CALSCALE:GREGORIAN
BEGIN:VEVENT
DTSTART:20201015T200000Z
DTEND:20201015T210000Z
X-MICROSOFT-CDO-ALLDAYEVENT:FALSE
SUMMARY:Medicare & You-A Virtual Information Program
DESCRIPTION:Maplewood Senior Living at Twinsburg offering this virtual insurance information program presented by Rebecca Hayward\, Ohio Senior Health Insurance Information Program (OSHIIP).\n\n\n\nLearn about recent changes to Medicare in this virtual informational program.
X-ALT-DESC;FMTTYPE=text/html:Maplewood Senior Living at Twinsburg offering this virtual insurance information program presented by Rebecca Hayward\, Ohio Senior Health Insurance Information Program (OSHIIP).<br />\n<br />\nLearn about recent changes to Medicare in this virtual informational program.
LOCATION:This is a virtual event. RSVP@maplewoodsl.com by October 13th
UID:e.2230.2389
SEQUENCE:3
DTSTAMP:20260425T192248Z
URL:https://business.twinsburgchamber.com/events/details/medicare-you-a-virtual-information-program-2389
END:VEVENT

END:VCALENDAR
