BEGIN:VCALENDAR
VERSION:2.0
PRODID:-//ChamberMaster//Event Calendar 2.0//EN
METHOD:PUBLISH
X-PUBLISHED-TTL:P3D
REFRESH-INTERVAL:P3D
CALSCALE:GREGORIAN
BEGIN:VEVENT
DTSTART:20230509T154500Z
DTEND:20230509T171500Z
X-MICROSOFT-CDO-ALLDAYEVENT:FALSE
SUMMARY:May Chamber Networking Lunch
DESCRIPTION:Join us for a Networking Lunch n Learn\, featuring guest speaker\, Kaityln Sideris from Just in Time Staffing.\n\n"Learn how employee recruitment can impact your organizations' success and how Just in Time Staffing can help."
X-ALT-DESC;FMTTYPE=text/html:<span style="font-size:16px\;">Join us for a Networking Lunch n Learn\, featuring guest speaker\, <span style="color:#FF0000\;"><strong>Kaityln Sideris from Just in Time Staffing.</strong></span><br />\n<em>&quot\;Learn how employee recruitment can impact your organizations&#39\; success and how Just in Time Staffing can help.&quot\;&nbsp\;&nbsp\;</em></span>
LOCATION:Brewsters Cafe Bistro Pub 2681 Creekside Drive Twinsburg\, OH 44087
UID:e.2230.3231
SEQUENCE:3
DTSTAMP:20260421T100923Z
URL:https://business.twinsburgchamber.com/events/details/may-chamber-networking-lunch-3231
END:VEVENT

END:VCALENDAR
