BEGIN:VCALENDAR
VERSION:2.0
PRODID:-//ChamberMaster//Event Calendar 2.0//EN
METHOD:PUBLISH
X-PUBLISHED-TTL:P3D
REFRESH-INTERVAL:P3D
CALSCALE:GREGORIAN
BEGIN:VEVENT
DTSTART:20220208T164500Z
DTEND:20220208T181500Z
X-MICROSOFT-CDO-ALLDAYEVENT:FALSE
SUMMARY:Lunch Networking Group
DESCRIPTION:Join us for a Lunch Networking Group on the second Tuesday every month!  BRING A BUDDY!\n\n\n\nLunch location will vary each month\, so be sure to check your email\, and the calendar!
X-ALT-DESC;FMTTYPE=text/html:<span style="font-size:18px\;">Join us for a Lunch Networking Group on the second Tuesday every month!&nbsp\; <span style="font-size:20px\;"><u><strong>BRING A BUDDY!</strong></u></span><br />\n<br />\nLunch location will vary each month\, so be sure to check your email\, and the calendar!&nbsp\;</span>
LOCATION:Mavis Winkle's Irish Pub 8870 Darrow Road\, Twinsburg Lunch n Learn with Chris Inman\, I.D.E.A. Cleveland\, "Video Marketing Strategy"
UID:e.2230.2729
SEQUENCE:3
DTSTAMP:20260420T104919Z
URL:https://business.twinsburgchamber.com/events/details/lunch-networking-group-02-08-2022-2729
END:VEVENT

END:VCALENDAR
