BEGIN:VCALENDAR
VERSION:2.0
PRODID:-//ChamberMaster//Event Calendar 2.0//EN
METHOD:PUBLISH
X-PUBLISHED-TTL:P3D
REFRESH-INTERVAL:P3D
CALSCALE:GREGORIAN
BEGIN:VEVENT
DTSTART:20190613T190000Z
DTEND:20190613T200000Z
X-MICROSOFT-CDO-ALLDAYEVENT:FALSE
SUMMARY:Life Hearing & Balance Grand Opening & Ribbon Cutting Celebration
DESCRIPTION:You're Invited!  Grand Opening & Ribbon Cutting for Life Hearing & Balance.  \n\n\n\nJoin us in welcoming this new company to the community. \n\n\n\nComplimentary refreshments will be provided.
X-ALT-DESC;FMTTYPE=text/html:<br />\n<span style="font-size:14px\;"><strong><span style="font-family:arial\;">You&#39\;re Invited!&nbsp\; </span></strong></span><strong style="color: rgb(51\, 51\, 51)\; font-family: sans-serif\, Arial\, Verdana\, &quot\;Trebuchet MS&quot\;\; font-size: 14px\; background-color: rgb(255\, 255\, 255)\;"><span style="font-family: arial\;">Grand Opening &amp\; Ribbon Cutting for Life Hearing &amp\; Balance.&nbsp\;&nbsp\;</span></strong><br />\n<br />\n<span style="font-size:14px\;"><strong><span style="font-family:arial\;">Join us in welcoming this new company to the community.&nbsp\;<br />\n<br />\nComplimentary refreshments will be provided.</span></strong></span>
LOCATION:Life Hearing & Balance\, LLC 10812 Ravenna Road Twinsburg\, OH 44087
UID:e.2230.2193
SEQUENCE:3
DTSTAMP:20260422T080006Z
URL:https://business.twinsburgchamber.com/events/details/life-hearing-balance-grand-opening-ribbon-cutting-celebration-2193
END:VEVENT

END:VCALENDAR
