BEGIN:VCALENDAR
VERSION:2.0
PRODID:-//ChamberMaster//Event Calendar 2.0//EN
METHOD:PUBLISH
X-PUBLISHED-TTL:P3D
REFRESH-INTERVAL:P3D
CALSCALE:GREGORIAN
BEGIN:VEVENT
DTSTART:20200225T200000Z
DTEND:20200225T210000Z
X-MICROSOFT-CDO-ALLDAYEVENT:FALSE
SUMMARY:Kent State University\, Twinsburg Regional Academic Center Ribbon Cutting Celebration
DESCRIPTION:You're invited\, to the ribbon cutting celebration of the renaming of the Kent State University campus in Twinsburg from Regional Academic Center to the Twinsburg Academic Center.
X-ALT-DESC;FMTTYPE=text/html:<span style="font-size:14px\;"><strong><span style="font-family:arial\;">You&#39\;re invited\, to the ribbon cutting celebration of the renaming of the Kent State University campus in Twinsburg from Regional Academic Center to the Twinsburg Academic Center.&nbsp\; &nbsp\; &nbsp\;&nbsp\;</span></strong></span>
LOCATION:Kent State University -Twinsburg Academic Center 2745 Creekside Drive Twinsburg\, OH 44087
UID:e.2230.2306
SEQUENCE:3
DTSTAMP:20260422T232515Z
URL:https://business.twinsburgchamber.com/events/details/kent-state-university-twinsburg-regional-academic-center-ribbon-cutting-celebration-2306
END:VEVENT

END:VCALENDAR
