BEGIN:VCALENDAR
VERSION:2.0
PRODID:-//ChamberMaster//Event Calendar 2.0//EN
METHOD:PUBLISH
X-PUBLISHED-TTL:P3D
REFRESH-INTERVAL:P3D
CALSCALE:GREGORIAN
BEGIN:VEVENT
DTSTART:20230613T154500Z
DTEND:20230613T171500Z
X-MICROSOFT-CDO-ALLDAYEVENT:FALSE
SUMMARY:June Chamber Networking Lunch
DESCRIPTION:Join us for a Networking Lunch n Learn\, featuring guest speaker\, Kelly Tremaine\, Akron Better Business Bureau.
X-ALT-DESC;FMTTYPE=text/html:<span style="font-size:16px\;">Join us for a Networking Lunch n Learn\, featuring guest speaker\, <span style="color:#FF0000\;"><strong>Kelly Tremaine\, Akron Better Business Bureau.</strong></span></span>
LOCATION:Mavis Winkle's Irish Pub (patio) 8870 Darrow Road Twinsburg\, OH 44087
UID:e.2230.3238
SEQUENCE:3
DTSTAMP:20260423T070128Z
URL:https://business.twinsburgchamber.com/events/details/june-chamber-networking-lunch-3238
END:VEVENT

END:VCALENDAR
