BEGIN:VCALENDAR
VERSION:2.0
PRODID:-//ChamberMaster//Event Calendar 2.0//EN
METHOD:PUBLISH
X-PUBLISHED-TTL:P3D
REFRESH-INTERVAL:P3D
CALSCALE:GREGORIAN
BEGIN:VEVENT
DTSTART:20190118T144500Z
DTEND:20190118T153000Z
X-MICROSOFT-CDO-ALLDAYEVENT:FALSE
SUMMARY:Jersey Mike's Subs Grand Opening & Ribbon Cutting Celebration
DESCRIPTION:You're Invited!  Jersey Mike's Subs Grand Opening & Ribbon Cutting.  \n\n\n\nJoin us in welcoming them to the community.  Complimentary refreshments will be provided.
X-ALT-DESC;FMTTYPE=text/html:<br />\n<span style="font-size:14px\;"><strong><span style="font-family:arial\;">You&#39\;re Invited!&nbsp\; Jersey Mike&#39\;s Subs Grand Opening &amp\; Ribbon Cutting.&nbsp\;&nbsp\;<br />\n<br />\nJoin us in welcoming them to the community.&nbsp\; Complimentary refreshments will be provided.</span></strong></span>
LOCATION:Jersey Mike's Subs 8870 Darrow Rd\, F102 B (Twinsburg Town Center Plaza) Twinsburg\, OH 44087
UID:e.2230.2175
SEQUENCE:3
DTSTAMP:20260422T001112Z
URL:https://business.twinsburgchamber.com/events/details/jersey-mike-s-subs-grand-opening-ribbon-cutting-celebration-2175
END:VEVENT

END:VCALENDAR
