BEGIN:VCALENDAR
VERSION:2.0
PRODID:-//ChamberMaster//Event Calendar 2.0//EN
METHOD:PUBLISH
X-PUBLISHED-TTL:P3D
REFRESH-INTERVAL:P3D
CALSCALE:GREGORIAN
BEGIN:VEVENT
DTSTART:20180905T153000Z
DTEND:20180905T170000Z
X-MICROSOFT-CDO-ALLDAYEVENT:FALSE
SUMMARY:Incorporating Wellness into an Existing Safety Program Strategy using Total Worker Health Approach Presented by the Western Reserve Safety Council
DESCRIPTION:REGISTER HERE\n\nSpeaker: Shanna Dunbar\, Workplace Health\, Inc.\n\nAbout the Speaker: Shanna Dunbar\, RN\, COHN-S\, brings over 25 years of occupational health experience. She the founder and President of Workplace Health Inc. focused on improving the health and productivity of employees.\n \n\nShe is a Registered Nurse and board certified in Occupational Health Nursing as a Specialist. She has been a member on the State Board for the Ohio Association of Occupational Health Nurses (OAOHN) for the past 10 years and serves as State President 2014 to the present. She holds a Certificate in Workers' Compensation Administration and Management from the University of California. Her educational preparation at UCLA in Kinesiology brings a particular expertise in Ergonomics and job analysis. She is a 2015 graduate of the Goldman Sachs 10\,000 Small Businesses program\, cohort 8. She is a current co-chair of the Health Ohio Business Council\, Northeast Ohio. She has been involved with development and implementation of Drug Free Workplace programs since 1988 and has been certified by the BWC as a transitional work developer since 2001.\n\nThe Western Reserved is sponsored by the Solon Chamber of Commerce and Ohio Bureau of Workers' Compensation in partnership with the Twinsburg Chamber of Commerce\, Aurora Chamber of Commerce\, Beachwood Chamber of Commerce\, Chagrin Valley Chamber of Commerce\, Hudson Chamber of Commerce and Nordonia Hills Chamber of Commerce.
X-ALT-DESC;FMTTYPE=text/html:<h2><strong><span style="font-family:arial\,sans-serif\;"><span style="font-size:12.0pt\;"><a href="http://business.westernreservesc.org/events/details/wrsc-program-incorporating-wellness-into-an-existing-safety-program-using-total-worker-health-approach-366"><span style="font-size:20px\;"><span style="color:#0000FF\;">REGISTER HERE</span></span></a></span></span></strong></h2>\n\n<h2 style="border: 0px\; font-variant-numeric: inherit\; font-variant-east-asian: inherit\; font-weight: 400\; font-stretch: inherit\; line-height: 1.4em\; font-family: &quot\;Droid Sans&quot\;\, Arial\, sans-serif\; font-size: 24px\; margin: 0px 0px 0em\; padding: 0px\; vertical-align: baseline\; color: rgb(216\, 150\, 6)\; background-color: rgb(255\, 255\, 255)\; -webkit-font-smoothing: antialiased !important\;"><strong><span style="color:#000000\;"><span style="border: none\; font-style: inherit\; font-variant: inherit\; font-weight: bolder\; font-stretch: inherit\; line-height: inherit\; font-family: inherit\; font-size: inherit\; margin: 0px\; padding: 0px\; vertical-align: baseline\; bottom: auto\; box-sizing: content-box\; clear: none\; content: normal\; direction: inherit\; empty-cells: show\; left: auto\; letter-spacing: inherit\; max-height: none\; max-width: none\; min-height: initial\; min-width: initial\; opacity: 1\; outline-offset: 0px\; overflow: visible\; position: static\; resize: none\; right: auto\; table-layout: auto\; text-align: inherit\; text-indent: inherit\; text-overflow: clip\; text-transform: inherit\; top: auto\; visibility: inherit\; white-space: inherit\; word-break: inherit\; word-spacing: inherit\; word-wrap: inherit\; z-index: auto\; background: none\; border-collapse: separate\; border-radius: 0px\; height: auto\; width: auto\; box-shadow: none\;"><span style="border: none\; font-style: inherit\; font-variant: inherit\; font-weight: inherit\; font-stretch: inherit\; line-height: inherit\; font-family: arial\; font-size: 14px\; margin: 0px\; padding: 0px\; vertical-align: baseline\; bottom: auto\; box-sizing: content-box\; clear: none\; content: normal\; direction: inherit\; empty-cells: show\; left: auto\; letter-spacing: inherit\; max-height: none\; max-width: none\; min-height: initial\; min-width: initial\; opacity: 1\; outline-offset: 0px\; overflow: visible\; position: static\; resize: none\; right: auto\; table-layout: auto\; text-align: inherit\; text-indent: inherit\; text-overflow: clip\; text-transform: inherit\; top: auto\; visibility: inherit\; white-space: inherit\; word-break: inherit\; word-spacing: inherit\; word-wrap: inherit\; z-index: auto\; background: none\; border-collapse: separate\; border-radius: 0px\; height: auto\; width: auto\; box-shadow: none\;"><span style="border: none\; font-style: inherit\; font-variant: inherit\; font-weight: inherit\; font-stretch: inherit\; line-height: inherit\; font-family: inherit\; font-size: 16px\; margin: 0px\; padding: 0px\; vertical-align: baseline\; bottom: auto\; box-sizing: content-box\; clear: none\; content: normal\; direction: inherit\; empty-cells: show\; left: auto\; letter-spacing: inherit\; max-height: none\; max-width: none\; min-height: initial\; min-width: initial\; opacity: 1\; outline-offset: 0px\; overflow: visible\; position: static\; resize: none\; right: auto\; table-layout: auto\; text-align: inherit\; text-indent: inherit\; text-overflow: clip\; text-transform: inherit\; top: auto\; visibility: inherit\; white-space: inherit\; word-break: inherit\; word-spacing: inherit\; word-wrap: inherit\; z-index: auto\; background: none\; border-collapse: separate\; border-radius: 0px\; height: auto\; width: auto\; box-shadow: none\;">Speaker: Shanna Dunbar\, Workplace Health\, Inc.</span></span></span></span></strong></h2>\n\n<p style="border: none\; font-variant-numeric: inherit\; font-variant-east-asian: inherit\; font-stretch: inherit\; line-height: inherit\; font-family: &quot\;Open Sans&quot\;\, arial\, sans-serif\; font-size: 18px\; margin: 1em 0px\; padding: 0px\; vertical-align: baseline\; bottom: auto\; box-sizing: content-box\; clear: none\; content: normal\; direction: inherit\; empty-cells: show\; float: none\; left: auto\; max-height: none\; max-width: none\; min-height: initial\; min-width: initial\; opacity: 1\; outline-offset: 0px\; overflow: visible\; position: static\; resize: none\; right: auto\; table-layout: auto\; text-overflow: clip\; top: auto\; visibility: inherit\; word-break: inherit\; word-wrap: inherit\; z-index: auto\; background: none rgb(255\, 255\, 255)\; border-collapse: separate\; border-radius: 0px\; height: auto\; width: auto\; box-shadow: none\; list-style: square outside none\;"><span style="font-size:14px\;"><span style="color: rgb(0\, 0\, 0)\; border: none\; font-variant-numeric: inherit\; font-variant-east-asian: inherit\; font-weight: bolder\; font-stretch: inherit\; line-height: inherit\; margin: 0px\; padding: 0px\; vertical-align: baseline\; bottom: auto\; box-sizing: content-box\; clear: none\; content: normal\; direction: inherit\; empty-cells: show\; left: auto\; max-height: none\; max-width: none\; min-height: initial\; min-width: initial\; opacity: 1\; outline-offset: 0px\; overflow: visible\; position: static\; resize: none\; right: auto\; table-layout: auto\; text-overflow: clip\; top: auto\; visibility: inherit\; word-break: inherit\; word-wrap: inherit\; z-index: auto\; background-image: none\; background-position: initial\; background-size: initial\; background-repeat: initial\; background-attachment: initial\; background-origin: initial\; background-clip: initial\; border-collapse: separate\; border-radius: 0px\; height: auto\; width: auto\; box-shadow: none\;">About the Speaker:</span><span style="color: rgb(0\, 0\, 0)\;">&nbsp\;</span><span style="color: rgb(0\, 0\, 0)\; border: none\; font-variant-numeric: inherit\; font-variant-east-asian: inherit\; font-stretch: inherit\; line-height: inherit\; margin: 0px\; padding: 0px\; vertical-align: baseline\; bottom: auto\; box-sizing: content-box\; clear: none\; content: normal\; direction: inherit\; empty-cells: show\; left: auto\; max-height: none\; max-width: none\; min-height: initial\; min-width: initial\; opacity: 1\; outline-offset: 0px\; overflow: visible\; position: static\; resize: none\; right: auto\; table-layout: auto\; text-overflow: clip\; top: auto\; visibility: inherit\; word-break: inherit\; word-wrap: inherit\; z-index: auto\; background-image: none\; background-position: initial\; background-size: initial\; background-repeat: initial\; background-attachment: initial\; background-origin: initial\; background-clip: initial\; border-collapse: separate\; border-radius: 0px\; height: auto\; width: auto\; box-shadow: none\;"><span style="border: none\; font-style: inherit\; font-variant: inherit\; font-weight: bolder\; font-stretch: inherit\; line-height: inherit\; font-family: inherit\; margin: 0px\; padding: 0px\; vertical-align: baseline\; bottom: auto\; box-sizing: content-box\; clear: none\; content: normal\; direction: inherit\; empty-cells: show\; left: auto\; letter-spacing: inherit\; max-height: none\; max-width: none\; min-height: initial\; min-width: initial\; opacity: 1\; outline-offset: 0px\; overflow: visible\; position: static\; resize: none\; right: auto\; table-layout: auto\; text-align: inherit\; text-indent: inherit\; text-overflow: clip\; text-transform: inherit\; top: auto\; visibility: inherit\; white-space: inherit\; word-break: inherit\; word-spacing: inherit\; word-wrap: inherit\; z-index: auto\; background: none\; border-collapse: separate\; border-radius: 0px\; height: auto\; width: auto\; box-shadow: none\;"><span style="border: none\; font-style: inherit\; font-variant: inherit\; font-weight: inherit\; font-stretch: inherit\; line-height: inherit\; font-family: arial\, sans-serif\; margin: 0px\; padding: 0px\; vertical-align: baseline\; bottom: auto\; box-sizing: content-box\; clear: none\; content: normal\; direction: inherit\; empty-cells: show\; left: auto\; letter-spacing: inherit\; max-height: none\; max-width: none\; min-height: initial\; min-width: initial\; opacity: 1\; outline-offset: 0px\; overflow: visible\; position: static\; resize: none\; right: auto\; table-layout: auto\; text-align: inherit\; text-indent: inherit\; text-overflow: clip\; text-transform: inherit\; top: auto\; visibility: inherit\; white-space: inherit\; word-break: inherit\; word-spacing: inherit\; word-wrap: inherit\; z-index: auto\; background: none\; border-collapse: separate\; border-radius: 0px\; height: auto\; width: auto\; box-shadow: none\;">Shanna Dunbar\, RN\, COHN-S\,&nbsp\;</span></span><span style="border: none\; font-style: inherit\; font-variant: inherit\; font-weight: inherit\; font-stretch: inherit\; line-height: inherit\; font-family: arial\, sans-serif\; margin: 0px\; padding: 0px\; vertical-align: baseline\; bottom: auto\; box-sizing: content-box\; clear: none\; content: normal\; direction: inherit\; empty-cells: show\; left: auto\; letter-spacing: inherit\; max-height: none\; max-width: none\; min-height: initial\; min-width: initial\; opacity: 1\; outline-offset: 0px\; overflow: visible\; position: static\; resize: none\; right: auto\; table-layout: auto\; text-align: inherit\; text-indent: inherit\; text-overflow: clip\; text-transform: inherit\; top: auto\; visibility: inherit\; white-space: inherit\; word-break: inherit\; word-spacing: inherit\; word-wrap: inherit\; z-index: auto\; background: none\; border-collapse: separate\; border-radius: 0px\; height: auto\; width: auto\; box-shadow: none\;">brings over 25 years of occupational health experience. She the founder and President of Workplace Health Inc. focused on improving the health and productivity of employees.</span></span></span></p>\n<span style="font-size:14px\;"><span style="color:#000000\;"><span style="border: none\; font-variant-numeric: inherit\; font-variant-east-asian: inherit\; font-stretch: inherit\; line-height: inherit\; font-family: &quot\;Open Sans&quot\;\, arial\, sans-serif\; margin: 0px\; padding: 0px\; vertical-align: baseline\; bottom: auto\; box-sizing: content-box\; clear: none\; content: normal\; direction: inherit\; empty-cells: show\; left: auto\; max-height: none\; max-width: none\; min-height: initial\; min-width: initial\; opacity: 1\; outline-offset: 0px\; overflow: visible\; position: static\; resize: none\; right: auto\; table-layout: auto\; text-overflow: clip\; top: auto\; visibility: inherit\; word-break: inherit\; word-wrap: inherit\; z-index: auto\; background: none rgb(255\, 255\, 255)\; border-collapse: separate\; border-radius: 0px\; height: auto\; width: auto\; box-shadow: none\;">&nbsp\;<br style="bottom: auto\; box-sizing: content-box\; clear: none\; color: inherit\; content: normal\; direction: inherit\; display: inline\; empty-cells: show\; float: none\; font: inherit\; left: auto\; letter-spacing: inherit\; margin: 0px\; max-height: none\; max-width: none\; min-height: initial\; min-width: initial\; opacity: 1\; outline-offset: 0px\; overflow: visible\; padding: 0px\; position: static\; resize: none\; right: auto\; table-layout: auto\; text-align: inherit\; text-indent: inherit\; text-overflow: clip\; text-transform: inherit\; top: auto\; vertical-align: baseline\; visibility: inherit\; white-space: inherit\; word-break: inherit\; word-spacing: inherit\; word-wrap: inherit\; z-index: auto\; background: none\; border: none\; border-collapse: separate\; border-radius: 0px\; height: auto\; width: auto\;" />\n<span style="border: none\; font-style: inherit\; font-variant: inherit\; font-weight: inherit\; font-stretch: inherit\; line-height: inherit\; font-family: arial\, sans-serif\; margin: 0px\; padding: 0px\; vertical-align: baseline\; bottom: auto\; box-sizing: content-box\; clear: none\; content: normal\; direction: inherit\; empty-cells: show\; left: auto\; letter-spacing: inherit\; max-height: none\; max-width: none\; min-height: initial\; min-width: initial\; opacity: 1\; outline-offset: 0px\; overflow: visible\; position: static\; resize: none\; right: auto\; table-layout: auto\; text-align: inherit\; text-indent: inherit\; text-overflow: clip\; text-transform: inherit\; top: auto\; visibility: inherit\; white-space: inherit\; word-break: inherit\; word-spacing: inherit\; word-wrap: inherit\; z-index: auto\; background: none\; border-collapse: separate\; border-radius: 0px\; height: auto\; width: auto\; box-shadow: none\;">She is a Registered Nurse and board certified in Occupational Health Nursing as a Specialist. She has been a member on the State Board for the Ohio Association of Occupational Health Nurses (OAOHN) for the past 10 years and serves as State President 2014 to the present. She holds a Certificate in Workers&rsquo\; Compensation Administration and Management from the University of California. Her educational preparation at UCLA in Kinesiology brings a particular expertise in Ergonomics and job analysis. She is a 2015 graduate of the Goldman Sachs 10\,000 Small Businesses program\, cohort 8. She is a current co-chair of the Health Ohio Business Council\, Northeast Ohio. She has been involved with development and implementation of Drug Free Workplace programs since 1988 and has been certified by the BWC as a transitional work developer since 2001.</span></span></span></span>\n\n<h2><em style="font-size: 10.5pt\; font-family: arial\, sans-serif\;">The Western Reserved is sponsored by the Solon Chamber of Commerce and Ohio Bureau of Workers&#39\; Compensation in partnership with the Twinsburg Chamber of Commerce\, Aurora Chamber of Commerce\, Beachwood Chamber of Commerce\, Chagrin Valley Chamber of Commerce\, Hudson Chamber of Commerce and Nordonia&nbsp\;Hills Chamber of Commerce.</em></h2>\n
LOCATION:Mustard Seed Market & Cafe 6025 Kruse Drive Solon\, OH 44139
UID:e.2230.2039
SEQUENCE:3
DTSTAMP:20260421T152435Z
URL:https://business.twinsburgchamber.com/events/details/incorporating-wellness-into-an-existing-safety-program-strategy-using-total-worker-health-approach-presented-by-the-western-reserve-safety-council-2039
END:VEVENT

END:VCALENDAR
