BEGIN:VCALENDAR
VERSION:2.0
PRODID:-//ChamberMaster//Event Calendar 2.0//EN
METHOD:PUBLISH
X-PUBLISHED-TTL:P3D
REFRESH-INTERVAL:P3D
CALSCALE:GREGORIAN
BEGIN:VEVENT
DTSTART:20180620T120000Z
DTEND:20180620T130000Z
X-MICROSOFT-CDO-ALLDAYEVENT:FALSE
SUMMARY:How to Stay Motivated with so Many Things Going On... Hosted by T.W.I.N. (Twinsburg Women In Networking)
DESCRIPTION:Hosted by Twinsburg Women In Networking - this event is open to ALL MEMBERS!\n\n\n\nJune Speaker & Topic:  Constance Longmire\, Ph.D. "How to Stay Motivated with so Many Things Going On...  \n\n\n\nToday everyone is being pulled in many directions and have \n\nnumerous professional and personal obligations.  \n\nDr. Longmire will provide resources and ideas to stay motivated.
X-ALT-DESC;FMTTYPE=text/html:<span style="font-size:14px\;"><span style="font-family:arial\;"><b><u><span style="color:#800080\;">Hosted by Twinsburg&nbsp\;Women In Networking - this event is open to ALL MEMBERS!</span></u><br />\n<br />\n<span style="color:#9fce60\;"><u>June Speaker &amp\; Topic:</u></span>&nbsp\;&nbsp\;Constance Longmire\, Ph.D. &quot\;How to Stay Motivated with so Many Things Going On...&nbsp\;&nbsp\;</b></span></span><br />\n<br />\n<span style="font-weight:bold\;language:en-US\;"><span style="color:black\;"><span style="font-family:constantia\;"><span style="font-size:16.0pt\;">Today everyone is being pulled in many directions and have </span></span></span></span><br />\n<span style="font-weight:bold\;language:en-US\;"><span style="color:black\;"><span style="font-family:constantia\;"><span style="font-size:16.0pt\;">numerous professional and personal obligations.&nbsp\; </span></span></span></span><br />\n<span style="font-weight:bold\;language:en-US\;"><span style="color:black\;"><span style="font-family:constantia\;"><span style="font-size:16.0pt\;">Dr. Longmire will provide resources and ideas to stay motivated. </span></span></span></span><br />\n&nbsp\;<br />\n<br />\n<br />\n<span style="font-size:14px\;">&nbsp\;</span><br />\n<br />\n&nbsp\;
LOCATION:Riley House\, Twinsburg Historical Society 9577 Liberty Rd Twinsburg\, OH 44087
UID:e.2230.1808
SEQUENCE:3
DTSTAMP:20260421T104524Z
URL:https://business.twinsburgchamber.com/events/details/how-to-stay-motivated-with-so-many-things-going-on-hosted-by-t-w-i-n-twinsburg-women-in-networking-1808
END:VEVENT

END:VCALENDAR
