BEGIN:VCALENDAR
VERSION:2.0
PRODID:-//ChamberMaster//Event Calendar 2.0//EN
METHOD:PUBLISH
X-PUBLISHED-TTL:P3D
REFRESH-INTERVAL:P3D
CALSCALE:GREGORIAN
BEGIN:VEVENT
DTSTART:20231130T223000Z
DTEND:20231201T003000Z
X-MICROSOFT-CDO-ALLDAYEVENT:FALSE
SUMMARY:Holiday Sip & Shop
DESCRIPTION:Join the Twinsburg Women In Networking for an evening of shopping\, networking and FUN!
X-ALT-DESC;FMTTYPE=text/html:Join the Twinsburg Women In Networking for an evening of shopping\, networking and FUN!
LOCATION:Strawberry Moon Boutique 9840 Ravenna Road Twinsburg
UID:e.2230.3249
SEQUENCE:3
DTSTAMP:20260421T204738Z
URL:https://business.twinsburgchamber.com/events/details/holiday-sip-shop-3249
END:VEVENT

END:VCALENDAR
