BEGIN:VCALENDAR
VERSION:2.0
PRODID:-//ChamberMaster//Event Calendar 2.0//EN
METHOD:PUBLISH
X-PUBLISHED-TTL:P3D
REFRESH-INTERVAL:P3D
CALSCALE:GREGORIAN
BEGIN:VEVENT
DTSTART:20241211T163000Z
DTEND:20241211T180000Z
X-MICROSOFT-CDO-ALLDAYEVENT:FALSE
SUMMARY:Holiday Luncheon
DESCRIPTION:Please join us for a Holiday lunch\, where we'll recognize and give support to Our Community Hunger Center
X-ALT-DESC;FMTTYPE=text/html:<span style="font-size:16px\;"><span style="font-family:tahoma\;">Please join us for a Holiday lunch\, where we&#39\;ll recognize and give support to Our Community Hunger Center</span></span><br />\n<br />\n<br />\n<br />\n<br />\n&nbsp\;
LOCATION:Hilton Garden Inn 8971 Wilcox Drive Twinsburg\, OH 44087
UID:e.2230.3280
SEQUENCE:3
DTSTAMP:20260421T131609Z
URL:https://business.twinsburgchamber.com/events/details/holiday-luncheon-3280
END:VEVENT

END:VCALENDAR
