BEGIN:VCALENDAR
VERSION:2.0
PRODID:-//ChamberMaster//Event Calendar 2.0//EN
METHOD:PUBLISH
X-PUBLISHED-TTL:P3D
REFRESH-INTERVAL:P3D
CALSCALE:GREGORIAN
BEGIN:VEVENT
DTSTART:20200129T213000Z
DTEND:20200129T230000Z
X-MICROSOFT-CDO-ALLDAYEVENT:FALSE
SUMMARY:Happy Hour Mixer - Cleveland Akron Referral Groups
DESCRIPTION:2020 Cleveland - Akron Referral\n\nMorning & Lunch Groups Mixer\n\n\n\nWant to find out more about the Chamber?  Already a member and looking to meet other business representatives?\n\n\n\nJoin us at Aaron & Moses Restaurant for this casual Happy Hour.\n\n\n\nEveryone is welcome\, including non-Chamber members!
X-ALT-DESC;FMTTYPE=text/html:<span style="font-size:20px\;"><span style="color:#0000FF\;"><strong>2020 Cleveland - Akron Referral<br />\nMorning &amp\; Lunch Groups Mixer</strong></span></span><br />\n<br />\n<span style="font-size:14px\;"><span style="font-family:arial\;">Want to find out more about the Chamber?&nbsp\; Already a member and looking to meet other business representatives?<br />\n<br />\nJoin us at Aaron &amp\; Moses Restaurant for this casual Happy Hour.<br />\n<br />\nEveryone is welcome\, including non-Chamber members!</span></span><br />\n&nbsp\;
LOCATION:Aaron & Moses Restaurant at Gleneagles Golf Course 2615 Glenwood Drive Twinsburg\, OH 44087
UID:e.2230.2291
SEQUENCE:3
DTSTAMP:20260422T195629Z
URL:https://business.twinsburgchamber.com/events/details/happy-hour-mixer-cleveland-akron-referral-groups-2291
END:VEVENT

END:VCALENDAR
