BEGIN:VCALENDAR
VERSION:2.0
PRODID:-//ChamberMaster//Event Calendar 2.0//EN
METHOD:PUBLISH
X-PUBLISHED-TTL:P3D
REFRESH-INTERVAL:P3D
CALSCALE:GREGORIAN
BEGIN:VEVENT
DTSTART:20190529T200000Z
DTEND:20190529T230000Z
X-MICROSOFT-CDO-ALLDAYEVENT:FALSE
SUMMARY:Happy Hour Mixer - Cleveland Akron Referral Groups
DESCRIPTION:2019 Cleveland - Akron Referral\n\nMorning & Lunch Group Mixer\n\n\n\nWant to find out more about these referral groups?\n\n\n\nWant to Find out more about the Chamber?\n\n\n\nJoin us at Rush Hour Grille for this Happy Hour event and meet current member to find out more.\n\n\n\nEveryone is welcome\, including non-Chamber members!
X-ALT-DESC;FMTTYPE=text/html:<span style="font-size:20px\;"><span style="color:#0000FF\;"><strong>2019 Cleveland - Akron Referral<br />\nMorning &amp\; Lunch Group Mixer</strong></span></span><br />\n<br />\n<span style="font-size:14px\;"><span style="font-family:arial\;">Want to find out more about these referral groups?<br />\n<br />\nWant to Find out more about the Chamber?<br />\n<br />\nJoin us at Rush Hour Grille for this Happy Hour event and meet current member to find out more.<br />\n<br />\nEveryone is welcome\, including non-Chamber members!</span></span><br />\n&nbsp\;
LOCATION:Rush Hour Grille 10735 Ravenna Rd. Twinsburg\, OH 44087
UID:e.2230.2192
SEQUENCE:3
DTSTAMP:20260422T061143Z
URL:https://business.twinsburgchamber.com/events/details/happy-hour-mixer-cleveland-akron-referral-groups-2192
END:VEVENT

END:VCALENDAR
