BEGIN:VCALENDAR
VERSION:2.0
PRODID:-//ChamberMaster//Event Calendar 2.0//EN
METHOD:PUBLISH
X-PUBLISHED-TTL:P3D
REFRESH-INTERVAL:P3D
CALSCALE:GREGORIAN
BEGIN:VEVENT
DTSTART:20211118T210000Z
DTEND:20211118T233000Z
X-MICROSOFT-CDO-ALLDAYEVENT:FALSE
SUMMARY:Grande Village Lofts Grande Opening
DESCRIPTION:Please join us for a private viewing of the newest in memory care upscale living!\n\n\n\nGrande Village Lofts Assisted Living\n\n\n\nThursday\, November 18th  4-6:30pm\n\n\n\nHeavy hor d'ourves & spirits\n\n\n\nGuests receive a wine and pie gift card swag bag!\n\n\n\nPlease RSVP by November 16th to RSVP@sprengerhealthcare.com or Amie at 330-963-3600\n\n\n\n2610 East Aurora RD Twinsburg\, Ohio 44087
X-ALT-DESC;FMTTYPE=text/html:Please join us for a private viewing of the newest in memory care upscale living!<br />\n<br />\nGrande Village Lofts Assisted Living<br />\n<br />\nThursday\, November 18th&nbsp\; 4-6:30pm<br />\n<br />\nHeavy hor d&#39\;ourves &amp\; spirits<br />\n<br />\nGuests receive a wine and pie gift card swag bag!<br />\n<br />\nPlease RSVP by November 16th to RSVP@sprengerhealthcare.com or Amie at 330-963-3600<br />\n<br />\n2610 East Aurora RD Twinsburg\, Ohio 44087<br />\n&nbsp\;
LOCATION:
UID:e.2230.2861
SEQUENCE:3
DTSTAMP:20260424T194550Z
URL:https://business.twinsburgchamber.com/events/details/grande-village-lofts-grande-opening-2861
END:VEVENT

END:VCALENDAR
