BEGIN:VCALENDAR
VERSION:2.0
PRODID:-//ChamberMaster//Event Calendar 2.0//EN
METHOD:PUBLISH
X-PUBLISHED-TTL:P3D
REFRESH-INTERVAL:P3D
CALSCALE:GREGORIAN
BEGIN:VEVENT
DTSTART:20160927T123000Z
DTEND:20160927T160000Z
X-MICROSOFT-CDO-ALLDAYEVENT:FALSE
SUMMARY:Glenn Shepard Seminar - "How to Supervise People and Lead a Team"
DESCRIPTION:Glenn Shepard Seminar with Twinsburg\, Cuyahoga Falls & Stow-Munroe Falls Chambers of Commerce\n\n\n\nAttached Letter   Here\n\n*Attached Application   Here\n\n\n\nBE THE MANAGER OTHER MANGERS ENVY\n\nAND BOSSES CAN'T WAIT TO REWARD!\n\n\n\n\n\n2016 BUSINESS SEMINAR\n\n"HOW TO SUPERVISE PEOPLE AND LEAD A TEAM"\n\nWITH GLENN SHEPARD\n\n \n\nThe best managers have learned how to deal with problems without missing a beat.  Now you can too!\n\n\n\nIn this short\, intensive and enjoyable seminar\, you'll learn how to effortlessly:  Defuse tension\, Derail toxic behavior\, and Defang even the most malicious employee - Energize your people and bring everyone together solidly as a team.  Learn the powerful strategies you need to solve your worst workplace problems.\n\n \n\nSeminar Cost Highly Discounted\n\nYour Chamber has worked out a great deal for you on the tuition.  Managers have paid as much as $1\,295 to hear Glenn Shepard speak.  You\, as a member of the Chamber\, may attend this event for only $129\, and your 4th company registration is FREE!  This seminar is approved for 3.25 (General) recertification credit hours toward PHR\, SPHR and GPHR recertification through the HR Certification Institute.\n\n \n\nTuesday\, September 26\, 2016\n\n8:30 a.m. to 12 noon\n\nTuition: $129 for Chamber members\, \n\n$149 for non-members and\n\nWhen 3 or more enroll\, the 4th person attends for FREE!
X-ALT-DESC;FMTTYPE=text/html:<br />\n<span style="font-size:14px\;"><span style="font-family:arial\;">Glenn Shepard Seminar with Twinsburg\, Cuyahoga Falls &amp\; Stow-Munroe Falls Chambers of Commerce<br />\n<br />\n<span style="font-size:18px\;"><span style="color:#000080\;"><strong>Attached Letter</strong></span> &ndash\; <a href="https://chambermaster.blob.core.windows.net/userfiles/UserFiles/chambers/2230/File/Letterhead-Twinsburg.pdf" target="_blank">Here</a></span><br />\n<span style="font-size:18px\;"><span style="color:#000080\;"><strong>*Attached Application</strong></span> &ndash\; <a href="https://chambermaster.blob.core.windows.net/userfiles/UserFiles/chambers/2230/File/9-27-16TwinsburgOHbrochurerv1SeminarTWINSBURGbrochure.pdf" target="_blank">Here</a></span><br />\n<br />\n<span style="color:#000080\;"><span style="font-size:18px\;"><strong>BE THE MANAGER OTHER MANGERS ENVY<br />\nAND BOSSES CAN&rsquo\;T WAIT TO REWARD!</strong></span></span></span></span><br />\n<br />\n<br />\n<span style="font-size:14px\;"><span style="font-family:arial\;"><strong><em><span style="text-align:start\;">2016 BUSINESS SEMINAR</span></em><br />\n<em><span style="text-transform:uppercase\;border:none windowtext 1.0pt\;padding:0in\;"><span style="color:navy\;">&quot\;HOW TO SUPERVISE PEOPLE AND LEAD A TEAM&quot\;</span></span></em><br />\n<em><span style="text-transform:uppercase\;border:none windowtext 1.0pt\;padding:0in\;"><span style="color:navy\;"><em>WITH GLENN SHEPARD</em></span></span></em></strong><br style="text-align:start\;" />\n&nbsp\;<br style="text-align:start\;" />\n<em style="text-align:start\;"><span style="border:none windowtext 1.0pt\;padding:0in\;"><span style="color:#444444\;">The best managers have learned how to deal with problems without missing a beat.&nbsp\; Now you can too!</span></span></em><br style="text-align:start\;" />\n<br />\n<em><span style="border:none windowtext 1.0pt\;padding:0in\;"><span style="color:#444444\;"><em>In this short\, intensive and enjoyable seminar\, you&#39\;ll learn how to effortlessly:&nbsp\;&nbsp\;<u>Defuse</u>&nbsp\;tension\,&nbsp\;<u>Derail</u>&nbsp\;toxic behavior\,</em>&nbsp\;<em>and&nbsp\;</em><u><span data-scayt-lang="en_US" data-scayt-word="Defang" style="background-position-x:52%\;background-position-y:100%\;">Defang</span></u><em>&nbsp\;even the most malicious employee -&nbsp\;</em></span></span></em><em style="text-align:start\;"><span style="border:none windowtext 1.0pt\;padding:0in\;"><span style="color:#444444\;">Energize your people and bring everyone together</span></span></em>&nbsp\;<em><span style="border:none windowtext 1.0pt\;padding:0in\;"><span style="color:#444444\;">solidly</span></span></em>&nbsp\;<em><span style="border:none windowtext 1.0pt\;padding:0in\;"><span style="color:#444444\;">as a</span></span></em>&nbsp\;<em><span style="border:none windowtext 1.0pt\;padding:0in\;"><span style="color:#444444\;">team.&nbsp\; Learn the powerful strategies you need to solve your worst workplace problems.</span></span></em><br style="text-align:start\;" />\n&nbsp\;<br style="text-align:start\;" />\n<strong style="text-align:start\;"><span style="border:none windowtext 1.0pt\;padding:0in\;"><span style="color:#444444\;">Seminar Cost Highly Discounted</span></span></strong><br style="text-align:start\;" />\n<span style="border:none windowtext 1.0pt\;padding:0in\;"><span style="color:#444444\;"><span style="text-align:start\;">Your Chamber has worked out a great deal for you on the tuition.&nbsp\; Managers have paid as much as $1\,295 to hear Glenn Shepard speak.&nbsp\;&nbsp\;</span><strong style="text-align:start\;">You\, as a member of the Chamber\, may attend this event for only $129\, and your 4th company registration is FREE!&nbsp\; This seminar is approved for 3.25 (General) recertification credit hours toward PHR\,</strong>&nbsp\;<strong>SPHR</strong>&nbsp\;<strong>and</strong>&nbsp\;<strong>GPHR</strong></span></span>&nbsp\;<strong>recertification through the HR Certification Institute.</strong><br style="text-align:start\;" />\n&nbsp\;<br style="text-align:start\;" />\n<strong style="text-align:start\;"><span style="border:none windowtext 1.0pt\;padding:0in\;"><span style="color:#444444\;">Tuesday\, September 26\, 2016</span></span></strong><br style="text-align:start\;" />\n<span style="border:none windowtext 1.0pt\;padding:0in\;"><span style="color:#444444\;"><span style="text-align:start\;">8:30 a.m. to 12 noon</span></span></span><br style="text-align:start\;" />\n<span style="border:none windowtext 1.0pt\;padding:0in\;"><span style="color:#444444\;"><span style="text-align:start\;">Tuition: $129 for Chamber members\,&nbsp\;</span></span></span><br style="text-align:start\;" />\n<span style="border:none windowtext 1.0pt\;padding:0in\;"><span style="color:#444444\;"><span style="text-align:start\;">$149 for non-members&nbsp\;and</span></span></span><br style="text-align:start\;" />\n<strong style="text-align:start\;"><span style="border:none windowtext 1.0pt\;padding:0in\;"><span style="color:#444444\;">When&nbsp\;3 or more enroll\, the 4</span></span></strong><strong style="text-align:start\;"><span style="border:none windowtext 1.0pt\;padding:0in\;"><span style="color:#444444\;">th</span></span></strong><strong style="text-align:start\;"><span style="border:none windowtext 1.0pt\;padding:0in\;"><span style="color:#444444\;">&nbsp\;person attends for FREE!</span></span></strong></span></span>
LOCATION:Riverwood Chapel 1407 Fairchild Ave. Kent\, OH 44240
UID:e.2230.1648
SEQUENCE:3
DTSTAMP:20260419T223150Z
URL:https://business.twinsburgchamber.com/events/details/glenn-shepard-seminar-how-to-supervise-people-and-lead-a-team-09-27-2016-1648
END:VEVENT

END:VCALENDAR
