BEGIN:VCALENDAR
VERSION:2.0
PRODID:-//ChamberMaster//Event Calendar 2.0//EN
METHOD:PUBLISH
X-PUBLISHED-TTL:P3D
REFRESH-INTERVAL:P3D
CALSCALE:GREGORIAN
BEGIN:VEVENT
DTSTART:20160323T120000Z
DTEND:20160323T133000Z
X-MICROSOFT-CDO-ALLDAYEVENT:FALSE
SUMMARY:Getting To Know T.W.I.N. (Twinsburg Women In Networking)
DESCRIPTION:Come and learn about the women who make up T.W.I.N (Twinsburg Women In Networking)! Share your stories and ideas with us as we plan for 2016!
X-ALT-DESC;FMTTYPE=text/html:<br />\n<span style="font-size:14px\;"><span style="font-family:arial\;"><span style="font-weight:bold\;language:en-US\;"><span style="color:#4D269A\;">Come and learn about the women who make up T.W.I.N (Twinsburg Women In Networking)! Share your stories and ideas with us as we plan for 2016!</span></span><br />\n&nbsp\;</span></span><br />\n&nbsp\;
LOCATION:Twinsburg Goodwill Store 10735 Ravenna Road Twinsburg\, OH 44087
UID:e.2230.349
SEQUENCE:3
DTSTAMP:20260419T123537Z
URL:https://business.twinsburgchamber.com/events/details/getting-to-know-t-w-i-n-twinsburg-women-in-networking-03-23-2016-349
END:VEVENT

END:VCALENDAR
