BEGIN:VCALENDAR
VERSION:2.0
PRODID:-//ChamberMaster//Event Calendar 2.0//EN
METHOD:PUBLISH
X-PUBLISHED-TTL:P3D
REFRESH-INTERVAL:P3D
CALSCALE:GREGORIAN
BEGIN:VEVENT
DTSTART:20190129T163000Z
DTEND:20190129T180000Z
X-MICROSOFT-CDO-ALLDAYEVENT:FALSE
SUMMARY:Gender Differences In Communication - Navigating the Challenges and Opportunities... Hosted by T.W.I.N. (Twinsburg Women In Networking)
DESCRIPTION:Hosted by Twinsburg Women In Networking - this event is open to ALL MEMBERS!\n\n\n\nJanuary Speaker & Topic:  Diane Helbig\, "Gender Differences in Communication - Navigating the Challenges & Opportunities" \n\n\n\nMen and women communicate differently.  While neither is better or worse than the other\, the differences can create challenges in the workplace.  There is real value in learning how to understand and appreciate the foundations of the behaviors.  In this program\, we explore how men and women communite\, why we approach communication this we and techniques we can use to improve the outcome.
X-ALT-DESC;FMTTYPE=text/html:<span style="font-size:14px\;"><span style="font-family:arial\;"><b><span style="font-size:16px\;"><span style="color:#800080\;">Hosted by Twinsburg&nbsp\;Women In Networking - this event is open to ALL MEMBERS!</span></span><br />\n<br />\n<span style="color:#9fce60\;"><u>January Speaker &amp\; Topic:</u></span>&nbsp\; Diane Helbig\, &quot\;Gender Differences in Communication - Navigating the Challenges &amp\; Opportunities&quot\;&nbsp\;</b><br />\n<br />\nMen and women communicate differently.&nbsp\; While neither is better or worse than the other\, the differences can create challenges in the workplace.&nbsp\; There is real value in learning how to understand and appreciate the foundations of the behaviors.&nbsp\; In this program\, we explore how men and women communite\, why we approach communication this we and techniques we can use to improve the outcome.</span></span><br />\n<span style="font-weight:bold\;language:en-US\;"><span style="color:black\;"><span style="font-family:constantia\;"><span style="font-size:16.0pt\;">&nbsp\;</span></span></span></span><br />\n&nbsp\;<br />\n<br />\n<br />\n<span style="font-size:14px\;">&nbsp\;</span><br />\n<br />\n&nbsp\;
LOCATION:Greenbridge Teahouse & Cafe 9036 Church Street Twinsburg\, OH 44087
UID:e.2230.2113
SEQUENCE:3
DTSTAMP:20260421T222023Z
URL:https://business.twinsburgchamber.com/events/details/gender-differences-in-communication-navigating-the-challenges-and-opportunities-hosted-by-t-w-i-n-twinsburg-women-in-networking-2113
END:VEVENT

END:VCALENDAR
