BEGIN:VCALENDAR
VERSION:2.0
PRODID:-//ChamberMaster//Event Calendar 2.0//EN
METHOD:PUBLISH
X-PUBLISHED-TTL:P3D
REFRESH-INTERVAL:P3D
CALSCALE:GREGORIAN
BEGIN:VEVENT
DTSTART:20250909T200000Z
DTEND:20250909T230000Z
X-MICROSOFT-CDO-ALLDAYEVENT:FALSE
SUMMARY:Fully Promoted Open House
DESCRIPTION:You're invited to the Fully Promoted Open House!\n\n\n\nJoin us on September 9th from 4PM to 7PM for an evening of fun\, networking\, and discovery. Enjoy live music\, a food truck\, drinks\, and cornhole while you connect with our team and other local businesses. Check out vendor tables with samples of our high-quality branded apparel and promotional products\, and don't miss your chance to win exciting raffle giveaways.\n\n\n\n\n\nWe'd love to see you there! Let us know if you can make it!
X-ALT-DESC;FMTTYPE=text/html:<strong>You&rsquo\;re invited to the Fully Promoted Open House!</strong><br />\n<br />\nJoin us on <strong>September 9th from 4PM to 7PM</strong> for an evening of fun\, networking\, and discovery. Enjoy <strong>live music</strong>\, a <strong>food truck</strong>\, <strong>drinks</strong>\, and <strong>cornhole</strong> while you connect with our team and other local businesses. Check out <strong>vendor tables with samples</strong> of our high-quality branded apparel and promotional products\, and don&rsquo\;t miss your chance to win exciting <strong>raffle giveaways</strong>.<br />\n<br />\n<br />\nWe&rsquo\;d love to see you there! Let us know if you can make it!
LOCATION:1885 E Aurora Rd. Twinsburg\, OH 44087
UID:e.2230.3300
SEQUENCE:3
DTSTAMP:20260422T014459Z
URL:https://business.twinsburgchamber.com/events/details/fully-promoted-open-house-3300
END:VEVENT

END:VCALENDAR
