BEGIN:VCALENDAR
VERSION:2.0
PRODID:-//ChamberMaster//Event Calendar 2.0//EN
METHOD:PUBLISH
X-PUBLISHED-TTL:P3D
REFRESH-INTERVAL:P3D
CALSCALE:GREGORIAN
BEGIN:VEVENT
DTSTART:20250614T160000Z
DTEND:20250614T190000Z
X-MICROSOFT-CDO-ALLDAYEVENT:FALSE
SUMMARY:FOSTER '25
DESCRIPTION:BethEl Apostolic Assembly presents FOSTER '25\, a family-friendly celebration of the blessing and unique power of fathers to foster faith\, family\, and prosperous futures for their children and communities!  This free event will take place on Saturday\, June 14\, 2025 @ 12:00 - 3:00 pm\, and offer an afternoon of fun\, great food\, live music and entertainment\, games and giveaways\, and community resources.\n\n \n\nFOSTER '25 will also help to shed light on and address the unique needs of children in foster care and their families\, and to rally the community around supporting\, donating\, and praying for them as they navigate challenges and pursue their promise!\n\n\n\nFOSTER '25 will be held at:\n\nFaith United Methodist Church\n\n2560 Post Road\n\nTwinsburg\, Ohio 44087
X-ALT-DESC;FMTTYPE=text/html:<div><span style="color:rgb(51\, 51\, 51)\; font-family:arial\,verdana\,helvetica\,sans-serif\; font-size:13px">BethEl Apostolic Assembly presents <em><strong>FOSTER &#39\;25</strong></em>\, a family-friendly celebration of the blessing and unique power of fathers to foster faith\, family\, and prosperous futures for their children and communities!&nbsp\; This free event will take place on <em><strong>Saturday\, June 14\, 2025 @ 12:00 - 3:00 pm</strong></em>\,&nbsp\;</span><span style="color:rgb(51\, 51\, 51)\; font-family:arial\,verdana\,helvetica\,sans-serif\; font-size:13px">and offer an afternoon of fun\, great food\, live music and entertainment\, games and giveaways\, and community resources.</span></div>\n\n<div>&nbsp\;</div>\n\n<div><span style="color:rgb(51\, 51\, 51)\; font-family:arial\,verdana\,helvetica\,sans-serif\; font-size:13px"><em><strong>FOSTER &#39\;25</strong></em> will also help to shed light on and address the unique needs of children in foster care and their families\, and to rally the community around supporting\, donating\, and praying for them as they navigate challenges and pursue their promise!</span></div>\n\n<div><br />\n<span style="font-family:arial\,verdana\,helvetica\,sans-serif">FOSTER &#39\;25 will be held at:<br />\nFaith United Methodist Church</span></div>\n\n<div><span style="color:rgb(51\, 51\, 51)\; font-family:arial\,verdana\,helvetica\,sans-serif\; font-size:13px">2560 Post Road</span></div>\n\n<div><span style="color:rgb(51\, 51\, 51)\; font-family:arial\,verdana\,helvetica\,sans-serif\; font-size:13px">Twinsburg\, Ohio 44087</span></div>\n
LOCATION:Faith United Methodist Church 2560 Post Road Twinsburg\, Ohio 44087
UID:e.2230.3297
SEQUENCE:3
DTSTAMP:20260421T193311Z
URL:https://business.twinsburgchamber.com/events/details/foster-25-3297
END:VEVENT

END:VCALENDAR
