BEGIN:VCALENDAR
VERSION:2.0
PRODID:-//ChamberMaster//Event Calendar 2.0//EN
METHOD:PUBLISH
X-PUBLISHED-TTL:P3D
REFRESH-INTERVAL:P3D
CALSCALE:GREGORIAN
BEGIN:VEVENT
DTSTART:20170804T120000Z
DTEND:20170804T130000Z
X-MICROSOFT-CDO-ALLDAYEVENT:FALSE
SUMMARY:First Friday Networking ON THE GO (August) - 9 Chambers Participating!
DESCRIPTION:Nordonia Hills Chamber Added for 2017!\n\n\n\nCelebrating 2 years! Prizes and Giveaways! \n\n\n\n9 CHAMBERS OF COMMERCE \n\nCuyahoga Falls | Hudson Area | Kent Area | Streetsboro Area | Tallmadge | Twinsburg | Stow-Munroe Falls I Fairlawn  I Nordonia Hills\n\n\n\nA professional business leaders networking reception before work the first Friday of every month. Bring business cards and your 30 second business commercial.  \n\n\n\n          THE place to be the first Friday of every month!
X-ALT-DESC;FMTTYPE=text/html:<br />\n<span style="font-size:16px\;"><span style="color:#008000\;"><strong>Nordonia Hills Chamber Added for 2017!</strong></span><br />\n<br />\n<span style="color:#000080\;"><strong>Celebrating&nbsp\;2 years! Prizes and Giveaways!&nbsp\;</strong></span></span><br />\n<br />\n<span style="font-size:16px\;"><span style="font-family:arial\;"><strong><span style="color:red\;">9 CHAMBERS OF COMMERCE</span> </strong></span></span><br />\n<span style="font-family:arial\;"><span style="font-size:14px\;">Cuyahoga Falls | Hudson Area | Kent Area | Streetsboro Area | Tallmadge | Twinsburg | Stow-Munroe Falls I Fairlawn&nbsp\;</span></span><span style="color: rgb(51\, 51\, 51)\; font-family: arial\; font-size: 14px\; background-color: rgb(255\, 255\, 255)\;">&nbsp\;I Nordonia Hills</span><br />\n<br />\n<span style="font-size:14px\;"><span style="font-family:arial\;">A professional business leaders networking reception before work the first Friday of every month. Bring business cards and your 30 second business commercial.&nbsp\;&nbsp\;<br />\n<br />\n<span style="color:#FF0000\;"><strong>&nbsp\; &nbsp\; &nbsp\; &nbsp\;<span style="font-size:16px\;">&nbsp\; &nbsp\;THE place to be the first Friday of every month!&nbsp\;</span></strong></span></span></span>
LOCATION:Great Lakes Honda 43 Pruitt Blvd Akron\, OH 44310
UID:e.2230.1759
SEQUENCE:3
DTSTAMP:20260420T174040Z
URL:https://business.twinsburgchamber.com/events/details/first-friday-networking-on-the-go-august-9-chambers-participating-1759
END:VEVENT

END:VCALENDAR
