BEGIN:VCALENDAR
VERSION:2.0
PRODID:-//ChamberMaster//Event Calendar 2.0//EN
METHOD:PUBLISH
X-PUBLISHED-TTL:P3D
REFRESH-INTERVAL:P3D
CALSCALE:GREGORIAN
BEGIN:VEVENT
DTSTART:20200207T130000Z
DTEND:20200207T140000Z
X-MICROSOFT-CDO-ALLDAYEVENT:FALSE
SUMMARY:First Friday Networking ON THE GO - 12 Chambers of Commerce
DESCRIPTION:12 CHAMBERS OF COMMERCE \n\nAurora  | Cuyahoga Falls | Hudson | Kent | Streetsboro | Green\n\nTallmadge | Twinsburg | Stow-Munroe Falls | Fairlawn   | Nordonia  Hills |Springfield Lakemore\n\n\n\nA professional business leaders networking reception before work the first Friday of every month. Bring business cards and your 30 second business commercial.  \n\n\n\n          THE place to be the first Friday of every month! \n\n\n\nAttendees between January - June\, 2020 can be entered to win a month lease of a convertible!  Courtesy of Great Lakes Honda in honor of the 5th Anniversary of this event!
X-ALT-DESC;FMTTYPE=text/html:<br />\n<span style="font-size:16px\;"><span style="font-family:arial\;"><strong><span style="color:red\;">12 CHAMBERS OF COMMERCE</span> </strong></span></span><br />\n<span style="font-family:arial\;"><span style="font-size:14px\;">Aurora </span></span><span style="color: rgb(51\, 51\, 51)\; font-family: arial\; font-size: 14px\; background-color: rgb(255\, 255\, 255)\;">&nbsp\;|&nbsp\;</span>Cuyahoga<span style="font-family:arial\;"><span style="font-size:14px\;"> Falls | Hudson | Kent | Streetsboro | Green<br />\nTallmadge | Twinsburg | Stow-Munroe Falls&nbsp\;</span></span><span style="color: rgb(51\, 51\, 51)\; font-family: arial\; font-size: 14px\; background-color: rgb(255\, 255\, 255)\;">|</span><span style="font-family:arial\;"><span style="font-size:14px\;"> Fairlawn&nbsp\;</span></span><span style="color: rgb(51\, 51\, 51)\; font-family: arial\; font-size: 14px\; background-color: rgb(255\, 255\, 255)\;">&nbsp\; | Nordonia&nbsp\; Hills&nbsp\;|</span>Springfield Lakemore<br />\n<br />\n<span style="font-size:14px\;"><span style="font-family:arial\;">A professional business leaders networking reception before work the first Friday of every month. Bring business cards and your 30 second business commercial.&nbsp\;&nbsp\;<br />\n<br />\n<span style="color:#FF0000\;"><strong>&nbsp\; &nbsp\; &nbsp\; &nbsp\;<span style="font-size:16px\;">&nbsp\; &nbsp\;THE place to be the first Friday of every month!&nbsp\;<br />\n<br />\nAttendees between January - June\, 2020 can be entered to win a month lease of a convertible!&nbsp\; Courtesy of Great Lakes Honda in honor of the 5th Anniversary of this event!</span></strong></span></span></span>
LOCATION:Great Lakes Honda 43 Pruitt Blvd Akron\, OH 44310
UID:e.2230.2293
SEQUENCE:3
DTSTAMP:20260422T231325Z
URL:https://business.twinsburgchamber.com/events/details/first-friday-networking-on-the-go-12-chambers-of-commerce-02-07-2020-2293
END:VEVENT

END:VCALENDAR
