BEGIN:VCALENDAR
VERSION:2.0
PRODID:-//ChamberMaster//Event Calendar 2.0//EN
METHOD:PUBLISH
X-PUBLISHED-TTL:P3D
REFRESH-INTERVAL:P3D
CALSCALE:GREGORIAN
BEGIN:VEVENT
DTSTART:20250801T120000Z
DTEND:20250801T130000Z
X-MICROSOFT-CDO-ALLDAYEVENT:FALSE
SUMMARY:First Friday! 10th Anniversary Networking Event
DESCRIPTION:Celebrate the 10th anniversary of Great Lakes Honda's First Friday Networking on the Go with business leaders and professionals from 8 local Chambers of Commerce!
X-ALT-DESC;FMTTYPE=text/html:Celebrate the 10th anniversary of Great Lakes Honda&#39\;s First Friday Networking on the Go with business leaders and professionals from 8 local Chambers of Commerce!
LOCATION:Great Lakes Honda 43 Pruitt Blvd. Akron\, OH 44310
UID:e.2230.3301
SEQUENCE:3
DTSTAMP:20260421T233231Z
URL:https://business.twinsburgchamber.com/events/details/first-friday-10th-anniversary-networking-event-3301
END:VEVENT

END:VCALENDAR
